BEGIN:VCALENDAR
VERSION:2.0
PRODID:-//Visit Kingsland, Georgia - ECPv6.15.20//NONSGML v1.0//EN
CALSCALE:GREGORIAN
METHOD:PUBLISH
X-ORIGINAL-URL:https://visitkingsland.com
X-WR-CALDESC:Events for Visit Kingsland, Georgia
REFRESH-INTERVAL;VALUE=DURATION:PT1H
X-Robots-Tag:noindex
X-PUBLISHED-TTL:PT1H
BEGIN:VTIMEZONE
TZID:America/New_York
BEGIN:DAYLIGHT
TZOFFSETFROM:-0500
TZOFFSETTO:-0400
TZNAME:EDT
DTSTART:20250309T070000
END:DAYLIGHT
BEGIN:STANDARD
TZOFFSETFROM:-0400
TZOFFSETTO:-0500
TZNAME:EST
DTSTART:20251102T060000
END:STANDARD
BEGIN:DAYLIGHT
TZOFFSETFROM:-0500
TZOFFSETTO:-0400
TZNAME:EDT
DTSTART:20260308T070000
END:DAYLIGHT
BEGIN:STANDARD
TZOFFSETFROM:-0400
TZOFFSETTO:-0500
TZNAME:EST
DTSTART:20261101T060000
END:STANDARD
BEGIN:DAYLIGHT
TZOFFSETFROM:-0500
TZOFFSETTO:-0400
TZNAME:EDT
DTSTART:20270314T070000
END:DAYLIGHT
BEGIN:STANDARD
TZOFFSETFROM:-0400
TZOFFSETTO:-0500
TZNAME:EST
DTSTART:20271107T060000
END:STANDARD
END:VTIMEZONE
BEGIN:VEVENT
DTSTART;TZID=America/New_York:20260410T170000
DTEND;TZID=America/New_York:20260410T220000
DTSTAMP:20260421T054831
CREATED:20260321T161051Z
LAST-MODIFIED:20260321T161434Z
UID:11662-1775840400-1775858400@visitkingsland.com
SUMMARY:Alive After 5 in Downtown St. Marys
DESCRIPTION:Downtown St. Marys  |  Friday\, April 10\, 5 PM  |  Free Admission \nAlive After 5 is back Friday\, April 10\, in Downtown St. Marys! Enjoy live music\, local shopping\, great food\, and a fun night out with friends and neighbors. \nPurchase a St. Marys Main Street Sip & Save Cup to get discounts\, freebies\, and waterproof stickers–like a free soda or iced tea with entree at The Cafe at Cottle & Gunn. Sip & Save Cups are available for $35 each at Cottle & Gunn\, 711 Osborne St\, St Marys\, GA 31558\, or online at StMarysMainStreet.com.
URL:https://visitkingsland.com/event/alive-after-5-in-downtown-st-marys-april-10-2026/
LOCATION:Downtown St. Marys\, 205 W St. Marys Street\, St. Marys\, GA\, 31558\, United States
CATEGORIES:Family Friendly,Live Entertainment
ATTACH;FMTTYPE=image/jpeg:https://visitkingsland.com/wp-content/uploads/2026/03/Alive-After-5-St.-Marys.jpg
ORGANIZER;CN="St. Marys Main Street DDA":MAILTO:mainstreet@stmarysga.com
END:VEVENT
BEGIN:VEVENT
DTSTART;TZID=America/New_York:20260410T180000
DTEND;TZID=America/New_York:20260410T220000
DTSTAMP:20260421T054831
CREATED:20260205T190414Z
LAST-MODIFIED:20260407T143708Z
UID:10302-1775844000-1775858400@visitkingsland.com
SUMMARY:2026 Boots & Chutes Rodeo
DESCRIPTION:The Lawn in Kingsland | April 10-11\, 6 PM-10 PM | Tickets Required  \nDust off your boots — the Boots & Chutes Rodeo is coming to Kingsland this April! Get ready for an action-packed night featuring saddle and bareback bronc riding\, breakaway roping\, barrel racing\, team roping\, steer wrestling\, and bull riding. \nTime: Gates open at 6 PM each night\, with the rodeo starting at 7:30 PM.  \nChildren’s Activities: The Camden County FFA chapters are expanding the fun with children’s activities before and during the rodeo\, including face painting\, a petting zoo\, and a photo booth. There will also be food vendors on site. \nIt’s a can’t-miss night of western excitement and family fun. \nFind more info HERE!
URL:https://visitkingsland.com/event/2026-boots-cutes-rodeo/
LOCATION:The Lawn\, 132 Royal Pkwy\, Kingsland\, GA\, 31548\, United States
CATEGORIES:Family Friendly,Live Entertainment
ORGANIZER;CN="Satilla River Farms%2C LLC":MAILTO:SatillaRiverFarms@gmail.com
END:VEVENT
END:VCALENDAR