BEGIN:VCALENDAR
VERSION:2.0
PRODID:-//Visit Kingsland, Georgia - ECPv6.15.20//NONSGML v1.0//EN
CALSCALE:GREGORIAN
METHOD:PUBLISH
X-WR-CALNAME:Visit Kingsland, Georgia
X-ORIGINAL-URL:https://visitkingsland.com
X-WR-CALDESC:Events for Visit Kingsland, Georgia
REFRESH-INTERVAL;VALUE=DURATION:PT1H
X-Robots-Tag:noindex
X-PUBLISHED-TTL:PT1H
BEGIN:VTIMEZONE
TZID:America/New_York
BEGIN:DAYLIGHT
TZOFFSETFROM:-0500
TZOFFSETTO:-0400
TZNAME:EDT
DTSTART:20250309T070000
END:DAYLIGHT
BEGIN:STANDARD
TZOFFSETFROM:-0400
TZOFFSETTO:-0500
TZNAME:EST
DTSTART:20251102T060000
END:STANDARD
BEGIN:DAYLIGHT
TZOFFSETFROM:-0500
TZOFFSETTO:-0400
TZNAME:EDT
DTSTART:20260308T070000
END:DAYLIGHT
BEGIN:STANDARD
TZOFFSETFROM:-0400
TZOFFSETTO:-0500
TZNAME:EST
DTSTART:20261101T060000
END:STANDARD
BEGIN:DAYLIGHT
TZOFFSETFROM:-0500
TZOFFSETTO:-0400
TZNAME:EDT
DTSTART:20270314T070000
END:DAYLIGHT
BEGIN:STANDARD
TZOFFSETFROM:-0400
TZOFFSETTO:-0500
TZNAME:EST
DTSTART:20271107T060000
END:STANDARD
END:VTIMEZONE
BEGIN:VEVENT
DTSTART;TZID=America/New_York:20260411T153000
DTEND;TZID=America/New_York:20260411T200000
DTSTAMP:20260419T135906
CREATED:20260409T142809Z
LAST-MODIFIED:20260409T151540Z
UID:12031-1775921400-1775937600@visitkingsland.com
SUMMARY:Cornhole Tournament at Walkabout Camp
DESCRIPTION:Walkabout Camp & RV Park  |  Saturday\, April 11\, 4 PM  |  Free \nWalkabout Camp & RV Park will hold a cornhole tournament with live music at their entertainment zone\, 742 Old Still Rd. Woodbine\, GA 31569. Tipsy Roo Bar will be open selling your favorite adult beverages and Foodie Stop FL food truck will be serving up skewers\, burgers\, sandwiches\, and specialty fries. \nCornhole sign-up at 3:30 PM and tournament starts at 4 PM. Live music with Brandon Wheeler starts at 5 PM. \nThis event is open to the public. For more information\, visit the Facebook event page or call 912-729-4110.
URL:https://visitkingsland.com/event/cornhole-tournament-at-walkabout-camp/
LOCATION:Walkabout Camp & RV Park\, 742 Old Still Rd.\, Woodbine\, GA\, 31569\, United States
CATEGORIES:Family Friendly,Live Entertainment
ATTACH;FMTTYPE=image/jpeg:https://visitkingsland.com/wp-content/uploads/2026/04/Walkabout-Cornhole-Tourney-04-11-2026.jpg
ORGANIZER;CN="Walkabout Camp & RV Park":MAILTO:info@walkaboutcamp.com
END:VEVENT
BEGIN:VEVENT
DTSTART;TZID=America/New_York:20260411T180000
DTEND;TZID=America/New_York:20260411T200000
DTSTAMP:20260419T135906
CREATED:20260314T192113Z
LAST-MODIFIED:20260407T170159Z
UID:11460-1775930400-1775937600@visitkingsland.com
SUMMARY:Music in the Park 2026 Concert Series Kick-Off
DESCRIPTION:St. Marys Waterfront Park | Saturday\, April 11\, 6 to 8 PM | Free \nGrab your lawn chairs and head to the pavilion at Howard Gilman Waterfront Park as St. Marys kicks off another season of Music in the Park with Jerry Lee & Friends\, from 6 to 8 p.m.\, Saturday\, April 11. \nThis free\, family-friendly concert marks the start of a beloved community tradition\, held the second Saturday of each month from April through September. Enjoy an evening of live music by the water\, along with local favorites like Doc & Nene’s Shave Ice and the All Foods Matter Food Truck—plus a special visit from the St. Marys Pirate Club. \nPresented by the St. Marys Convention & Visitors Bureau\, the City of St. Marys\, and Jerry Lee’s Music Store\, the series offers the perfect way to unwind and enjoy coastal Georgia’s laid-back charm. \n📅 Rainy Day Replay: Whiskey Heart will return August 23\, with Lobster Dogs Food Truck onsite. \n📞 For more information\, call the St. Marys Welcome Center at 912-882-4000. \n📱 Weather updates will be posted on the @visitstmarys Facebook page.
URL:https://visitkingsland.com/event/music-in-the-park-kick-off/
LOCATION:Howard Gilman Memorial Waterfront Park\, 201 St. Marys Street\, St. Marys\, GA\, 33558\, United States
CATEGORIES:Family Friendly,Live Entertainment
ATTACH;FMTTYPE=image/png:https://visitkingsland.com/wp-content/uploads/2026/03/St.-Marys-Music-in-the-Park-2026-Season-Flyer.png
ORGANIZER;CN="Visit St. Marys GA":MAILTO:awigger@stmarysga.gov
END:VEVENT
BEGIN:VEVENT
DTSTART;TZID=America/New_York:20260411T180000
DTEND;TZID=America/New_York:20260411T220000
DTSTAMP:20260419T135906
CREATED:20260407T143845Z
LAST-MODIFIED:20260407T143845Z
UID:11990-1775930400-1775944800@visitkingsland.com
SUMMARY:2026 Boots & Chutes Rodeo
DESCRIPTION:The Lawn in Kingsland | April 10-11\, 6 PM-10 PM | Tickets Required  \nDust off your boots — the Boots & Chutes Rodeo is coming to Kingsland this April! Get ready for an action-packed night featuring saddle and bareback bronc riding\, breakaway roping\, barrel racing\, team roping\, steer wrestling\, and bull riding. \nTime: Gates open at 6 PM each night\, with the rodeo starting at 7:30 PM.  \nChildren’s Activities: The Camden County FFA chapters are expanding the fun with children’s activities before and during the rodeo\, including face painting\, a petting zoo\, and a photo booth. There will also be food vendors on site. \nIt’s a can’t-miss night of western excitement and family fun. \nFind more info HERE!
URL:https://visitkingsland.com/event/2026-boots-chutes-rodeo/
LOCATION:The Lawn\, 132 Royal Pkwy\, Kingsland\, GA\, 31548\, United States
CATEGORIES:Family Friendly,Live Entertainment
ORGANIZER;CN="Satilla River Farms%2C LLC":MAILTO:SatillaRiverFarms@gmail.com
END:VEVENT
BEGIN:VEVENT
DTSTART;TZID=America/New_York:20260411T190000
DTEND;TZID=America/New_York:20260411T210000
DTSTAMP:20260419T135906
CREATED:20260406T172656Z
LAST-MODIFIED:20260407T143531Z
UID:11972-1775934000-1775941200@visitkingsland.com
SUMMARY:Ghost Hunt at the Riverview Hotel
DESCRIPTION:Riverview Hotel\, St. Marys  |  Saturday\, April 11\, 7 PM-9 PM  |  Tickets Required \nJoin us for an exclusive paranormal investigation inside the historic Riverview Hotel\, 105 Osborne St\, St Marys\, GA 31558. \nThe hotel is said to be haunted by the Three Sisters—spirits known for unexplained footsteps\, shadow figures\, and chilling late-night encounters. \nThis is a real ghost hunt—real equipment\, real history\, and real activity. As the night unfolds\, you’ll explore the rooms\, halls\, and hidden corners where guests and staff have reported encounters they can’t explain. \nLed by Retro\, paranormal host and investigator from the upcoming TV series Plantation Hill\, this experience blends history\, storytelling\, and hands-on ghost hunting. \n Space is limited\, so get your tickets today! Not for the faint of heart. St. Marys\, GA \nDo you dare to meet the Three Sisters? \nFor more information\, visit the Facebook event page. \n 
URL:https://visitkingsland.com/event/ghost-hunt-at-the-riverview-hotel/
LOCATION:Riverview Hotel\, 105 Osborne St\, St. Marys\, GA\, 31558\, United States
CATEGORIES:Live Entertainment
ATTACH;FMTTYPE=image/jpeg:https://visitkingsland.com/wp-content/uploads/2026/04/Haunted-Riverview-Hotel-from-FB-Event-04-2026.jpg
END:VEVENT
BEGIN:VEVENT
DTSTART;TZID=America/New_York:20260411T200000
DTEND;TZID=America/New_York:20260411T230000
DTSTAMP:20260419T135906
CREATED:20260407T142815Z
LAST-MODIFIED:20260407T142815Z
UID:11987-1775937600-1775948400@visitkingsland.com
SUMMARY:Comedy Night at Kingsland Station
DESCRIPTION:Kingsland Station Theatre |  Saturday\, April 11\, 8 PM  |  Tickets Required \nKingsland Station Theatre presents Comedy Night on April 11\, 2026\, at 8 PM. The show will feature Brian Zeolla\, Jameson Slater\, and Bill Heubner\, and will be hosted by Austin Tanner and Richard Aragon. \nJoin us for an evening of high-energy stand-up\, quick wit\, relatable stories\, and nonstop punchlines. Whether you love clever observations\, hilarious real-life moments\, or bold comedy that keeps you on your toes\, this show promises plenty of laughs from start to finish. \nFull bar\, plus snacks (for eating\, not throwing 😜). \nDoors open at 7 PM\, show starts at 8 PM. ***Intended for mature audiences*** \nFor more information and tickets\, visit TheGeorgiaTrain.com/Kingsland-Station.
URL:https://visitkingsland.com/event/comedy-night-at-kingsland-station/
LOCATION:The Kingsland Station\, 440 S Lee St\, Kingsland\, GA\, 31548\, United States
CATEGORIES:Live Entertainment
ATTACH;FMTTYPE=image/webp:https://visitkingsland.com/wp-content/uploads/2026/04/Kingsland-Station-Graphic-for-april-11-2026-comedy.webp
ORGANIZER;CN="The Kingsland Station":MAILTO:info@thegeorgiatrain.com
END:VEVENT
END:VCALENDAR