BEGIN:VCALENDAR
VERSION:2.0
PRODID:-//Visit Kingsland, Georgia - ECPv6.15.20//NONSGML v1.0//EN
CALSCALE:GREGORIAN
METHOD:PUBLISH
X-ORIGINAL-URL:https://visitkingsland.com
X-WR-CALDESC:Events for Visit Kingsland, Georgia
REFRESH-INTERVAL;VALUE=DURATION:PT1H
X-Robots-Tag:noindex
X-PUBLISHED-TTL:PT1H
BEGIN:VTIMEZONE
TZID:America/New_York
BEGIN:DAYLIGHT
TZOFFSETFROM:-0500
TZOFFSETTO:-0400
TZNAME:EDT
DTSTART:20250309T070000
END:DAYLIGHT
BEGIN:STANDARD
TZOFFSETFROM:-0400
TZOFFSETTO:-0500
TZNAME:EST
DTSTART:20251102T060000
END:STANDARD
BEGIN:DAYLIGHT
TZOFFSETFROM:-0500
TZOFFSETTO:-0400
TZNAME:EDT
DTSTART:20260308T070000
END:DAYLIGHT
BEGIN:STANDARD
TZOFFSETFROM:-0400
TZOFFSETTO:-0500
TZNAME:EST
DTSTART:20261101T060000
END:STANDARD
BEGIN:DAYLIGHT
TZOFFSETFROM:-0500
TZOFFSETTO:-0400
TZNAME:EDT
DTSTART:20270314T070000
END:DAYLIGHT
BEGIN:STANDARD
TZOFFSETFROM:-0400
TZOFFSETTO:-0500
TZNAME:EST
DTSTART:20271107T060000
END:STANDARD
END:VTIMEZONE
BEGIN:VEVENT
DTSTART;TZID=America/New_York:20260531T140000
DTEND;TZID=America/New_York:20260531T173000
DTSTAMP:20260421T071921
CREATED:20260320T152313Z
LAST-MODIFIED:20260320T152313Z
UID:11626-1780236000-1780248600@visitkingsland.com
SUMMARY:"The Aristocats KIDS" by Saltwater Performing Arts
DESCRIPTION:Pigmental Studios Auditorium  |  May 29\, 30 & 31  |  Tickets Required \nSaltwater Performing Arts presents Disney’s “The Aristocats KIDS.”  \nEvening Performances: Friday\, Saturday\, and Sunday\, May 29\, 30\, and 31 at 6:30 p.m.  \nMatinee Performances: Sunday\, May 31 at 2:00 p.m. \nAll performances will take place at Pigmental Studios Auditorium\, 124 Industrial Drive\, St. Marys\, GA 31558. \nYouth: $8\, Student: $10\, Adult (12+): $15\, Senior (60+):  $13; Military/First Responder/Educator: $11 \nFor tickets\, visit SaltwaterPAC.org.
URL:https://visitkingsland.com/event/the-aristocats-kids-by-saltwater-performing-arts-may-31-matinee/
LOCATION:Pigmental Studios Auditorium\, 124 Industrial Drive\, St. Marys\, GA\, 31558\, United States
CATEGORIES:Family Friendly,Live Entertainment
ATTACH;FMTTYPE=image/png:https://visitkingsland.com/wp-content/uploads/2026/03/SaltwaterPAC-Spring-2026-Header.png
END:VEVENT
BEGIN:VEVENT
DTSTART;TZID=America/New_York:20260531T183000
DTEND;TZID=America/New_York:20260531T210000
DTSTAMP:20260421T071921
CREATED:20260320T152114Z
LAST-MODIFIED:20260320T152114Z
UID:11625-1780252200-1780261200@visitkingsland.com
SUMMARY:"The Aristocats KIDS" by Saltwater Performing Arts
DESCRIPTION:Pigmental Studios Auditorium  |  May 29\, 30 & 31  |  Tickets Required \nSaltwater Performing Arts presents Disney’s “The Aristocats KIDS.”  \nEvening Performances: Friday\, Saturday\, and Sunday\, May 29\, 30\, and 31 at 6:30 p.m.  \nMatinee Performances: Sunday\, May 31 at 2:00 p.m. \nAll performances will take place at Pigmental Studios Auditorium\, 124 Industrial Drive\, St. Marys\, GA 31558. \nYouth: $8\, Student: $10\, Adult (12+): $15\, Senior (60+):  $13; Military/First Responder/Educator: $11 \nFor tickets\, visit SaltwaterPAC.org.
URL:https://visitkingsland.com/event/the-aristocats-kids-by-saltwater-performing-arts-may-31/
LOCATION:Pigmental Studios Auditorium\, 124 Industrial Drive\, St. Marys\, GA\, 31558\, United States
CATEGORIES:Family Friendly,Live Entertainment
ATTACH;FMTTYPE=image/png:https://visitkingsland.com/wp-content/uploads/2026/03/SaltwaterPAC-Spring-2026-Header.png
END:VEVENT
END:VCALENDAR