BEGIN:VCALENDAR
VERSION:2.0
PRODID:-//Visit Kingsland, Georgia - ECPv6.15.20//NONSGML v1.0//EN
CALSCALE:GREGORIAN
METHOD:PUBLISH
X-WR-CALNAME:Visit Kingsland, Georgia
X-ORIGINAL-URL:https://visitkingsland.com
X-WR-CALDESC:Events for Visit Kingsland, Georgia
REFRESH-INTERVAL;VALUE=DURATION:PT1H
X-Robots-Tag:noindex
X-PUBLISHED-TTL:PT1H
BEGIN:VTIMEZONE
TZID:America/New_York
BEGIN:DAYLIGHT
TZOFFSETFROM:-0500
TZOFFSETTO:-0400
TZNAME:EDT
DTSTART:20250309T070000
END:DAYLIGHT
BEGIN:STANDARD
TZOFFSETFROM:-0400
TZOFFSETTO:-0500
TZNAME:EST
DTSTART:20251102T060000
END:STANDARD
BEGIN:DAYLIGHT
TZOFFSETFROM:-0500
TZOFFSETTO:-0400
TZNAME:EDT
DTSTART:20260308T070000
END:DAYLIGHT
BEGIN:STANDARD
TZOFFSETFROM:-0400
TZOFFSETTO:-0500
TZNAME:EST
DTSTART:20261101T060000
END:STANDARD
BEGIN:DAYLIGHT
TZOFFSETFROM:-0500
TZOFFSETTO:-0400
TZNAME:EDT
DTSTART:20270314T070000
END:DAYLIGHT
BEGIN:STANDARD
TZOFFSETFROM:-0400
TZOFFSETTO:-0500
TZNAME:EST
DTSTART:20271107T060000
END:STANDARD
END:VTIMEZONE
BEGIN:VEVENT
DTSTART;TZID=America/New_York:20260502T080000
DTEND;TZID=America/New_York:20260502T120000
DTSTAMP:20260423T113817
CREATED:20260211T155033Z
LAST-MODIFIED:20260422T144218Z
UID:10445-1777708800-1777723200@visitkingsland.com
SUMMARY:Cinco De Mayo 5K at The Firefly Taco Cantina
DESCRIPTION:The Firefly Taco Cantina  |  Saturday\, May 2\,  8 AM | Registration Required \nRun\, walk\, or stroll through downtown St. Marys at the Second Annual Cinco de Mayo 5K and 1 Mile Taco Run. \nHosted by The Firefly Taco Cantina\, this event supports Camden Gymnastics\, with 100% of proceeds helping young athletes cover state and national championship fees! \nRace Day Registration begins at 7 AM. \nThe 5K run will start at 8 AM\, followed by the 1-mile walk. \nThe race starts and finishes at St Marys Firefly Taco Cantina – which will have music and activities immediately after the race. \nEarly bib pickup: \n\nFriday\, May 1st. 3pm-6pm at The Firefly\, St Marys GA\n\nWinners prizes: \n\nTop male & female finishers of the 5K race each receive a complimentary recovery service from The Ground Up Therapy & Wellness\n\nAwards: \n\n5K- Awards top 3 overall finishers (male and female)\n1M – Award to top male and female\n\n5k Age Groups: \n\n10 & under; 11-18; 19-29; 30-39; 40-49; 50-59; 60-69; 70+\n\nRegister by April 19th to receive a T-shirt! \nThe virtual run will take place between May 1st and May 10th. Run on your own and submit your times! \nFind more information & registration HERE!
URL:https://visitkingsland.com/event/cinco-de-mayo-5k/
LOCATION:The Firefly Taco Cantina\, 609 Osborne St.\, St. Marys\, GA\, 31558\, United States
CATEGORIES:Family Friendly
ATTACH;FMTTYPE=image/jpeg:https://visitkingsland.com/wp-content/uploads/2026/02/Cinco-de-Mayo-5K-1.jpg
ORGANIZER;CN="The Firefly Taco Cantina":MAILTO:info@fireflytaco.com
END:VEVENT
END:VCALENDAR