BEGIN:VCALENDAR
VERSION:2.0
PRODID:-//Visit Kingsland, Georgia - ECPv6.15.20//NONSGML v1.0//EN
CALSCALE:GREGORIAN
METHOD:PUBLISH
X-ORIGINAL-URL:https://visitkingsland.com
X-WR-CALDESC:Events for Visit Kingsland, Georgia
REFRESH-INTERVAL;VALUE=DURATION:PT1H
X-Robots-Tag:noindex
X-PUBLISHED-TTL:PT1H
BEGIN:VTIMEZONE
TZID:America/New_York
BEGIN:DAYLIGHT
TZOFFSETFROM:-0500
TZOFFSETTO:-0400
TZNAME:EDT
DTSTART:20250309T070000
END:DAYLIGHT
BEGIN:STANDARD
TZOFFSETFROM:-0400
TZOFFSETTO:-0500
TZNAME:EST
DTSTART:20251102T060000
END:STANDARD
BEGIN:DAYLIGHT
TZOFFSETFROM:-0500
TZOFFSETTO:-0400
TZNAME:EDT
DTSTART:20260308T070000
END:DAYLIGHT
BEGIN:STANDARD
TZOFFSETFROM:-0400
TZOFFSETTO:-0500
TZNAME:EST
DTSTART:20261101T060000
END:STANDARD
BEGIN:DAYLIGHT
TZOFFSETFROM:-0500
TZOFFSETTO:-0400
TZNAME:EDT
DTSTART:20270314T070000
END:DAYLIGHT
BEGIN:STANDARD
TZOFFSETFROM:-0400
TZOFFSETTO:-0500
TZNAME:EST
DTSTART:20271107T060000
END:STANDARD
END:VTIMEZONE
BEGIN:VEVENT
DTSTART;VALUE=DATE:20260321
DTEND;VALUE=DATE:20260322
DTSTAMP:20260420T061415
CREATED:20260213T164012Z
LAST-MODIFIED:20260213T164336Z
UID:10515-1774051200-1774137599@visitkingsland.com
SUMMARY:Cottontail Easter Special Train Ride 2026
DESCRIPTION:Georgia Coastal Railway | March 21 & 28\, April 4 at noon\, 2 PM\, and 4 PM | Tickets Required \nRide the rails with Peter Cottontail and friends! Make sure to bring a basket to collect Easter eggs. We’re going to have an old-fashioned Easter Egg hunt! \nThe Cottontail Easter Special train ride is on a covered\, open-air passenger coach. Wear appropriate clothing. \nYou can purchase snacks and drinks in the lobby prior to boarding. No outside food and drink allowed. There are no bathrooms on the train. Please go at the station before boarding. The train ride lasts about 60 mins. \nLearn more and purchase tickets HERE.
URL:https://visitkingsland.com/event/cottontail-easter-special-train-ride-2026/
LOCATION:Georgia Coastal Railway\, 440 S Lee St.\, Kingsland\, GA\, 31548\, United States
CATEGORIES:Family Friendly
ORGANIZER;CN="Georgia Coastal Railway":MAILTO:info@thegeorgiatrain.com
END:VEVENT
BEGIN:VEVENT
DTSTART;TZID=America/New_York:20260321T090000
DTEND;TZID=America/New_York:20260321T130000
DTSTAMP:20260420T061415
CREATED:20260217T152807Z
LAST-MODIFIED:20260217T152807Z
UID:10555-1774083600-1774098000@visitkingsland.com
SUMMARY:Quilters' Guild Makers' Market
DESCRIPTION:Camden County Recreation Center | Saturday\, March 21\, 9 AM-1 PM \nThe Southeast Georgia Quilters’ Guild Makers’ Market will be a vibrant and eclectic marketplace where you can explore a world of crafting supplies\, quilting supplies\, woodworking\, handmade crafts\, and so much more. \nCome out to enjoy a fun community atmosphere and support local artisans. \nInterested in becoming a vendor? Email segaquilters@gmail.com.
URL:https://visitkingsland.com/event/quilters-guild-makers-market/
LOCATION:Camden County Recreation Center\, 1050 Wildcat Dr.\, Kingsland\, GA\, 31548\, United States
ORGANIZER;CN="Southeast Georgia Quilters' Guild":MAILTO:segaquilters@gmail.com
END:VEVENT
BEGIN:VEVENT
DTSTART;TZID=America/New_York:20260326T143000
DTEND;TZID=America/New_York:20260326T160000
DTSTAMP:20260420T061415
CREATED:20260326T125824Z
LAST-MODIFIED:20260326T132038Z
UID:11813-1774535400-1774540800@visitkingsland.com
SUMMARY:FFA Plant Pre-sale at CCHS
DESCRIPTION:Camden County High School Greenhouse  |  April 9-11  |  Free Admission \nThe Camden County High School Future Farmers of America will hold its Spring Plant Sale at the school’s greenhouse (6300 Laurel Island Parkway\, Kingsland\, first right after the main entrance). All plants have been lovingly grown by horticulture students. Choose from a variety of vegetables\, herbs\, flowering plants\, and hanging baskets to brighten your garden. Don’t miss out on these homegrown treasures priced between $4 and $35. \nPre-sale: Thursday\, March 26\, 2:30-4 PM and Friday\, March 27\, 11 AM-5 PM. \nFull Sale: Thursday\, April 9\, 2:30-5:30 PM\, Friday\, April 10\, 2:30-4 PM\, and Saturday\, April 11\, 10 AM-2 PM \nCash and checks made out to CCHS FFA accepted. \nFor more information\, contact CCHS FFA Advisor Chelsa Begnaud at cbegnaud@camden.k12.ga.us.
URL:https://visitkingsland.com/event/plant-sale-at-cchs-march-26/
LOCATION:Camden County High School\, 6300 Laurel Island Parkways\, Kingsland\, GA\, 31548\, United States
CATEGORIES:Family Friendly
ATTACH;FMTTYPE=application/pdf:https://visitkingsland.com/wp-content/uploads/2026/03/2026-03-23-12-01-42_Spring-Plant-Flyer-1.pdf
ORGANIZER;CN="CCHS Future Farmers of America":MAILTO:cbegnaud@camden.k12.ga.us
END:VEVENT
BEGIN:VEVENT
DTSTART;TZID=America/New_York:20260327T110000
DTEND;TZID=America/New_York:20260327T170000
DTSTAMP:20260420T061415
CREATED:20260326T131544Z
LAST-MODIFIED:20260326T132023Z
UID:11825-1774609200-1774630800@visitkingsland.com
SUMMARY:FFA Plant Pre-sale at CCHS
DESCRIPTION:Camden County High School Greenhouse  |  April 9-11  |  Free Admission \nThe Camden County High School Future Farmers of America will hold its Spring Plant Sale at the school’s greenhouse (6300 Laurel Island Parkway\, Kingsland\, first right after the main entrance). All plants have been lovingly grown by horticulture students. Choose from a variety of vegetables\, herbs\, flowering plants\, and hanging baskets to brighten your garden. Don’t miss out on these homegrown treasures priced between $4 and $35. \nPre-sale: Thursday\, March 26\, 2:30-4 PM and Friday\, March 27\, 11 AM-5 PM. \nFull Sale: Thursday\, April 9\, 2:30-5:30 PM\, Friday\, April 10\, 2:30-4 PM\, and Saturday\, April 11\, 10 AM-2 PM \nCash and checks made out to CCHS FFA accepted. \nFor more information\, contact CCHS FFA Advisor Chelsa Begnaud at cbegnaud@camden.k12.ga.us.
URL:https://visitkingsland.com/event/plant-sale-at-cchs-march-27/
LOCATION:Camden County High School\, 6300 Laurel Island Parkways\, Kingsland\, GA\, 31548\, United States
CATEGORIES:Family Friendly
ATTACH;FMTTYPE=application/pdf:https://visitkingsland.com/wp-content/uploads/2026/03/2026-03-23-12-01-42_Spring-Plant-Flyer-1.pdf
ORGANIZER;CN="CCHS Future Farmers of America":MAILTO:cbegnaud@camden.k12.ga.us
END:VEVENT
BEGIN:VEVENT
DTSTART;VALUE=DATE:20260328
DTEND;VALUE=DATE:20260329
DTSTAMP:20260420T061415
CREATED:20260213T164454Z
LAST-MODIFIED:20260213T164454Z
UID:10519-1774656000-1774742399@visitkingsland.com
SUMMARY:Cottontail Easter Special Train Ride 2026
DESCRIPTION:Georgia Coastal Railway | March 21 & 28\, April 4 at noon\, 2 PM\, and 4 PM | Tickets Required \nRide the rails with Peter Cottontail and friends! Make sure to bring a basket to collect Easter eggs. We’re going to have an old-fashioned Easter Egg hunt! \nThe Cottontail Easter Special train ride is on a covered\, open-air passenger coach. Wear appropriate clothing. \nYou can purchase snacks and drinks in the lobby prior to boarding. No outside food and drink allowed. There are no bathrooms on the train. Please go at the station before boarding. The train ride lasts about 60 mins. \nLearn more and purchase tickets HERE.
URL:https://visitkingsland.com/event/cottontail-easter-special-train-ride-2026-2/
LOCATION:Georgia Coastal Railway\, 440 S Lee St.\, Kingsland\, GA\, 31548\, United States
CATEGORIES:Family Friendly
ORGANIZER;CN="Georgia Coastal Railway":MAILTO:info@thegeorgiatrain.com
END:VEVENT
END:VCALENDAR