BEGIN:VCALENDAR
VERSION:2.0
PRODID:-//Visit Kingsland, Georgia - ECPv6.15.20//NONSGML v1.0//EN
CALSCALE:GREGORIAN
METHOD:PUBLISH
X-WR-CALNAME:Visit Kingsland, Georgia
X-ORIGINAL-URL:https://visitkingsland.com
X-WR-CALDESC:Events for Visit Kingsland, Georgia
REFRESH-INTERVAL;VALUE=DURATION:PT1H
X-Robots-Tag:noindex
X-PUBLISHED-TTL:PT1H
BEGIN:VTIMEZONE
TZID:America/New_York
BEGIN:DAYLIGHT
TZOFFSETFROM:-0500
TZOFFSETTO:-0400
TZNAME:EDT
DTSTART:20250309T070000
END:DAYLIGHT
BEGIN:STANDARD
TZOFFSETFROM:-0400
TZOFFSETTO:-0500
TZNAME:EST
DTSTART:20251102T060000
END:STANDARD
BEGIN:DAYLIGHT
TZOFFSETFROM:-0500
TZOFFSETTO:-0400
TZNAME:EDT
DTSTART:20260308T070000
END:DAYLIGHT
BEGIN:STANDARD
TZOFFSETFROM:-0400
TZOFFSETTO:-0500
TZNAME:EST
DTSTART:20261101T060000
END:STANDARD
BEGIN:DAYLIGHT
TZOFFSETFROM:-0500
TZOFFSETTO:-0400
TZNAME:EDT
DTSTART:20270314T070000
END:DAYLIGHT
BEGIN:STANDARD
TZOFFSETFROM:-0400
TZOFFSETTO:-0500
TZNAME:EST
DTSTART:20271107T060000
END:STANDARD
END:VTIMEZONE
BEGIN:VEVENT
DTSTART;TZID=America/New_York:20260502T100000
DTEND;TZID=America/New_York:20260502T150000
DTSTAMP:20260422T130842
CREATED:20260420T195741Z
LAST-MODIFIED:20260420T195741Z
UID:12172-1777716000-1777734000@visitkingsland.com
SUMMARY:Farmers Market at Everybody Rents
DESCRIPTION:Everybody Rents Home Furnishings  |  Saturday\, May 2\, 10 AM-3 PM  |  Free Admission \nEverybody Rents Home Furnishings will host a Farmers Market at their location\, 107 Kings Bay Rd.\, Kingsland\, GA 31548.  Come out and support local farmers like Start Fresh Farm\, crafters\, bakers\, food trucks\, and other locally owned small businesses. \nPick up fresh organic produce and homemade goods. \nEnjoy special drawings and store discounts happening at Everybody Rents. \nFor more information\, visit the Facebook Event page. \n 
URL:https://visitkingsland.com/event/farmers-market-at-everybody-rents-3/
LOCATION:Everybody Rents Home Furnishings\, 107 Kings Bay Rd.\, Kingsland\, GA\, 31548\, United States
CATEGORIES:Family Friendly
ATTACH;FMTTYPE=image/jpeg:https://visitkingsland.com/wp-content/uploads/2026/04/Farmers-Market-Everybody-Rents-05-02-2026.jpg
END:VEVENT
BEGIN:VEVENT
DTSTART;TZID=America/New_York:20260502T120000
DTEND;TZID=America/New_York:20260502T133000
DTSTAMP:20260422T130842
CREATED:20260413T173708Z
LAST-MODIFIED:20260413T173708Z
UID:12074-1777723200-1777728600@visitkingsland.com
SUMMARY:Jurassic Special Dinosaur Train Ride & Show
DESCRIPTION:The Kingsland Station  |  Saturdays\, April 11 to July 4  |  Tickets Required \nGet ready for a roaring good time at the Jurassic Special Show and Train Ride!  The adventure begins every Saturday\, through July 4\, 2026\, at noon and 2 PM at The Kingsland Station\, 440 S Lee St.\, Kingsland\, GA 31548. \nStep into an action-packed\, interactive dinosaur stage show where you might even become part of the adventure. Then keep the excitement rolling with a one-hour train ride\, where you’ll come face-to-face with dinosaurs and enjoy up-close encounters you won’t forget! \nLearn more and purchase tickets at TheGeorgiaTrain.com/dinosaurs.
URL:https://visitkingsland.com/event/jurassic-special-dinosaur-train-ride-show-may-2-2026-noon/
LOCATION:The Kingsland Station\, 440 S Lee St\, Kingsland\, GA\, 31548\, United States
CATEGORIES:Family Friendly,Live Entertainment
ATTACH;FMTTYPE=image/webp:https://visitkingsland.com/wp-content/uploads/2026/04/Dino-Show-2026.webp
ORGANIZER;CN="Georgia Coastal Railway":MAILTO:info@thegeorgiatrain.com
END:VEVENT
BEGIN:VEVENT
DTSTART;TZID=America/New_York:20260502T140000
DTEND;TZID=America/New_York:20260502T153000
DTSTAMP:20260422T130842
CREATED:20260413T175111Z
LAST-MODIFIED:20260413T175111Z
UID:12078-1777730400-1777735800@visitkingsland.com
SUMMARY:Jurassic Special Dinosaur Train Ride & Show
DESCRIPTION:The Kingsland Station  |  Saturdays\, April 11 to July 4  |  Tickets Required \nGet ready for a roaring good time at the Jurassic Special Show and Train Ride!  The adventure begins every Saturday\, through July 4\, 2026\, at noon and 2 PM at The Kingsland Station\, 440 S Lee St.\, Kingsland\, GA 31548. \nStep into an action-packed\, interactive dinosaur stage show where you might even become part of the adventure. Then keep the excitement rolling with a one-hour train ride\, where you’ll come face-to-face with dinosaurs and enjoy up-close encounters you won’t forget! \nLearn more and purchase tickets at TheGeorgiaTrain.com/dinosaurs.
URL:https://visitkingsland.com/event/jurassic-special-dinosaur-train-ride-show/
LOCATION:The Kingsland Station\, 440 S Lee St\, Kingsland\, GA\, 31548\, United States
CATEGORIES:Family Friendly,Live Entertainment
ATTACH;FMTTYPE=image/webp:https://visitkingsland.com/wp-content/uploads/2026/04/Dino-Show-2026.webp
ORGANIZER;CN="Georgia Coastal Railway":MAILTO:info@thegeorgiatrain.com
END:VEVENT
BEGIN:VEVENT
DTSTART;TZID=America/New_York:20260509T120000
DTEND;TZID=America/New_York:20260509T133000
DTSTAMP:20260422T130842
CREATED:20260413T175639Z
LAST-MODIFIED:20260413T175912Z
UID:12080-1778328000-1778333400@visitkingsland.com
SUMMARY:Jurassic Special Dinosaur Train Ride & Show
DESCRIPTION:The Kingsland Station  |  Saturdays\, April 11 to July 4  |  Tickets Required \nGet ready for a roaring good time at the Jurassic Special Show and Train Ride!  The adventure begins every Saturday\, through July 4\, 2026\, at noon and 2 PM at The Kingsland Station\, 440 S Lee St.\, Kingsland\, GA 31548. \nStep into an action-packed\, interactive dinosaur stage show where you might even become part of the adventure. Then keep the excitement rolling with a one-hour train ride\, where you’ll come face-to-face with dinosaurs and enjoy up-close encounters you won’t forget! \nLearn more and purchase tickets at TheGeorgiaTrain.com/dinosaurs.
URL:https://visitkingsland.com/event/jurassic-special-dinosaur-train-ride-show-may-9-2026-noon/
LOCATION:The Kingsland Station\, 440 S Lee St\, Kingsland\, GA\, 31548\, United States
CATEGORIES:Family Friendly,Live Entertainment
ATTACH;FMTTYPE=image/webp:https://visitkingsland.com/wp-content/uploads/2026/04/Dino-Show-2026.webp
ORGANIZER;CN="Georgia Coastal Railway":MAILTO:info@thegeorgiatrain.com
END:VEVENT
BEGIN:VEVENT
DTSTART;TZID=America/New_York:20260509T140000
DTEND;TZID=America/New_York:20260509T153000
DTSTAMP:20260422T130842
CREATED:20260413T174210Z
LAST-MODIFIED:20260413T175414Z
UID:12076-1778335200-1778340600@visitkingsland.com
SUMMARY:Jurassic Special Dinosaur Train Ride & Show
DESCRIPTION:The Kingsland Station  |  Saturdays\, April 11 to July 4  |  Tickets Required \nGet ready for a roaring good time at the Jurassic Special Show and Train Ride!  The adventure begins every Saturday\, through July 4\, 2026\, at noon and 2 PM at The Kingsland Station\, 440 S Lee St.\, Kingsland\, GA 31548. \nStep into an action-packed\, interactive dinosaur stage show where you might even become part of the adventure. Then keep the excitement rolling with a one-hour train ride\, where you’ll come face-to-face with dinosaurs and enjoy up-close encounters you won’t forget! \nLearn more and purchase tickets at TheGeorgiaTrain.com/dinosaurs.
URL:https://visitkingsland.com/event/jurassic-special-dinosaur-train-ride-show-may-9-2026-2pm/
LOCATION:The Kingsland Station\, 440 S Lee St\, Kingsland\, GA\, 31548\, United States
CATEGORIES:Family Friendly,Live Entertainment
ATTACH;FMTTYPE=image/webp:https://visitkingsland.com/wp-content/uploads/2026/04/Dino-Show-2026.webp
ORGANIZER;CN="Georgia Coastal Railway":MAILTO:info@thegeorgiatrain.com
END:VEVENT
BEGIN:VEVENT
DTSTART;TZID=America/New_York:20260516T100000
DTEND;TZID=America/New_York:20260516T150000
DTSTAMP:20260422T130842
CREATED:20260420T191526Z
LAST-MODIFIED:20260420T195218Z
UID:12168-1778925600-1778943600@visitkingsland.com
SUMMARY:Farmers Market at Everybody Rents
DESCRIPTION:Everybody Rents Home Furnishings  |  Saturday\, May 16\, 10 AM-3 PM  |  Free Admission \nEverybody Rents Home Furnishings will host a Farmers Market at their location\, 107 Kings Bay Rd.\, Kingsland\, GA 31548.  Come out and support local farmers like Start Fresh Farm\, crafters\, bakers\, food trucks\, and other locally owned small businesses. \nPick up fresh organic produce and homemade goods. \nEnjoy special drawings and store discounts happening at Everybody Rents. \nFor more information\, visit the Facebook Event page. \n 
URL:https://visitkingsland.com/event/farmers-market-at-everybody-rents-2/
LOCATION:Everybody Rents Home Furnishings\, 107 Kings Bay Rd.\, Kingsland\, GA\, 31548\, United States
CATEGORIES:Family Friendly
ATTACH;FMTTYPE=image/jpeg:https://visitkingsland.com/wp-content/uploads/2026/04/Farmers-Market-Everybody-Rents-05-16-2026.jpg
END:VEVENT
BEGIN:VEVENT
DTSTART;TZID=America/New_York:20260516T120000
DTEND;TZID=America/New_York:20260516T133000
DTSTAMP:20260422T130842
CREATED:20260413T180554Z
LAST-MODIFIED:20260413T180554Z
UID:12081-1778932800-1778938200@visitkingsland.com
SUMMARY:Jurassic Special Dinosaur Train Ride & Show
DESCRIPTION:The Kingsland Station  |  Saturdays\, April 11 to July 4  |  Tickets Required \nGet ready for a roaring good time at the Jurassic Special Show and Train Ride!  The adventure begins every Saturday\, through July 4\, 2026\, at noon and 2 PM at The Kingsland Station\, 440 S Lee St.\, Kingsland\, GA 31548. \nStep into an action-packed\, interactive dinosaur stage show where you might even become part of the adventure. Then keep the excitement rolling with a one-hour train ride\, where you’ll come face-to-face with dinosaurs and enjoy up-close encounters you won’t forget! \nLearn more and purchase tickets at TheGeorgiaTrain.com/dinosaurs.
URL:https://visitkingsland.com/event/jurassic-special-dinosaur-train-ride-show-may-16-2026-noon/
LOCATION:The Kingsland Station\, 440 S Lee St\, Kingsland\, GA\, 31548\, United States
CATEGORIES:Family Friendly,Live Entertainment
ATTACH;FMTTYPE=image/webp:https://visitkingsland.com/wp-content/uploads/2026/04/Dino-Show-2026.webp
ORGANIZER;CN="Georgia Coastal Railway":MAILTO:info@thegeorgiatrain.com
END:VEVENT
BEGIN:VEVENT
DTSTART;TZID=America/New_York:20260516T140000
DTEND;TZID=America/New_York:20260516T153000
DTSTAMP:20260422T130842
CREATED:20260413T175304Z
LAST-MODIFIED:20260413T175304Z
UID:12079-1778940000-1778945400@visitkingsland.com
SUMMARY:Jurassic Special Dinosaur Train Ride & Show
DESCRIPTION:The Kingsland Station  |  Saturdays\, April 11 to July 4  |  Tickets Required \nGet ready for a roaring good time at the Jurassic Special Show and Train Ride!  The adventure begins every Saturday\, through July 4\, 2026\, at noon and 2 PM at The Kingsland Station\, 440 S Lee St.\, Kingsland\, GA 31548. \nStep into an action-packed\, interactive dinosaur stage show where you might even become part of the adventure. Then keep the excitement rolling with a one-hour train ride\, where you’ll come face-to-face with dinosaurs and enjoy up-close encounters you won’t forget! \nLearn more and purchase tickets at TheGeorgiaTrain.com/dinosaurs.
URL:https://visitkingsland.com/event/jurassic-special-dinosaur-train-ride-show-may-16-2026-2pm/
LOCATION:The Kingsland Station\, 440 S Lee St\, Kingsland\, GA\, 31548\, United States
CATEGORIES:Family Friendly,Live Entertainment
ATTACH;FMTTYPE=image/webp:https://visitkingsland.com/wp-content/uploads/2026/04/Dino-Show-2026.webp
ORGANIZER;CN="Georgia Coastal Railway":MAILTO:info@thegeorgiatrain.com
END:VEVENT
BEGIN:VEVENT
DTSTART;TZID=America/New_York:20260523T120000
DTEND;TZID=America/New_York:20260523T133000
DTSTAMP:20260422T130842
CREATED:20260413T180715Z
LAST-MODIFIED:20260413T180715Z
UID:12082-1779537600-1779543000@visitkingsland.com
SUMMARY:Jurassic Special Dinosaur Train Ride & Show
DESCRIPTION:The Kingsland Station  |  Saturdays\, April 11 to July 4  |  Tickets Required \nGet ready for a roaring good time at the Jurassic Special Show and Train Ride!  The adventure begins every Saturday\, through July 4\, 2026\, at noon and 2 PM at The Kingsland Station\, 440 S Lee St.\, Kingsland\, GA 31548. \nStep into an action-packed\, interactive dinosaur stage show where you might even become part of the adventure. Then keep the excitement rolling with a one-hour train ride\, where you’ll come face-to-face with dinosaurs and enjoy up-close encounters you won’t forget! \nLearn more and purchase tickets at TheGeorgiaTrain.com/dinosaurs.
URL:https://visitkingsland.com/event/jurassic-special-dinosaur-train-ride-show-may-23-2026-noon/
LOCATION:The Kingsland Station\, 440 S Lee St\, Kingsland\, GA\, 31548\, United States
CATEGORIES:Family Friendly,Live Entertainment
ATTACH;FMTTYPE=image/webp:https://visitkingsland.com/wp-content/uploads/2026/04/Dino-Show-2026.webp
ORGANIZER;CN="Georgia Coastal Railway":MAILTO:info@thegeorgiatrain.com
END:VEVENT
BEGIN:VEVENT
DTSTART;TZID=America/New_York:20260523T140000
DTEND;TZID=America/New_York:20260523T153000
DTSTAMP:20260422T130842
CREATED:20260413T181245Z
LAST-MODIFIED:20260413T181245Z
UID:12085-1779544800-1779550200@visitkingsland.com
SUMMARY:Jurassic Special Dinosaur Train Ride & Show
DESCRIPTION:The Kingsland Station  |  Saturdays\, April 11 to July 4  |  Tickets Required \nGet ready for a roaring good time at the Jurassic Special Show and Train Ride!  The adventure begins every Saturday\, through July 4\, 2026\, at noon and 2 PM at The Kingsland Station\, 440 S Lee St.\, Kingsland\, GA 31548. \nStep into an action-packed\, interactive dinosaur stage show where you might even become part of the adventure. Then keep the excitement rolling with a one-hour train ride\, where you’ll come face-to-face with dinosaurs and enjoy up-close encounters you won’t forget! \nLearn more and purchase tickets at TheGeorgiaTrain.com/dinosaurs.
URL:https://visitkingsland.com/event/jurassic-special-dinosaur-train-ride-show-may-23-2026-2pm/
LOCATION:The Kingsland Station\, 440 S Lee St\, Kingsland\, GA\, 31548\, United States
CATEGORIES:Family Friendly,Live Entertainment
ATTACH;FMTTYPE=image/webp:https://visitkingsland.com/wp-content/uploads/2026/04/Dino-Show-2026.webp
ORGANIZER;CN="Georgia Coastal Railway":MAILTO:info@thegeorgiatrain.com
END:VEVENT
BEGIN:VEVENT
DTSTART;TZID=America/New_York:20260530T120000
DTEND;TZID=America/New_York:20260530T133000
DTSTAMP:20260422T130842
CREATED:20260413T180845Z
LAST-MODIFIED:20260413T180845Z
UID:12083-1780142400-1780147800@visitkingsland.com
SUMMARY:Jurassic Special Dinosaur Train Ride & Show
DESCRIPTION:The Kingsland Station  |  Saturdays\, April 11 to July 4  |  Tickets Required \nGet ready for a roaring good time at the Jurassic Special Show and Train Ride!  The adventure begins every Saturday\, through July 4\, 2026\, at noon and 2 PM at The Kingsland Station\, 440 S Lee St.\, Kingsland\, GA 31548. \nStep into an action-packed\, interactive dinosaur stage show where you might even become part of the adventure. Then keep the excitement rolling with a one-hour train ride\, where you’ll come face-to-face with dinosaurs and enjoy up-close encounters you won’t forget! \nLearn more and purchase tickets at TheGeorgiaTrain.com/dinosaurs.
URL:https://visitkingsland.com/event/jurassic-special-dinosaur-train-ride-show-may-30-2026-noon/
LOCATION:The Kingsland Station\, 440 S Lee St\, Kingsland\, GA\, 31548\, United States
CATEGORIES:Family Friendly,Live Entertainment
ATTACH;FMTTYPE=image/webp:https://visitkingsland.com/wp-content/uploads/2026/04/Dino-Show-2026.webp
ORGANIZER;CN="Georgia Coastal Railway":MAILTO:info@thegeorgiatrain.com
END:VEVENT
BEGIN:VEVENT
DTSTART;TZID=America/New_York:20260530T140000
DTEND;TZID=America/New_York:20260530T153000
DTSTAMP:20260422T130842
CREATED:20260413T181028Z
LAST-MODIFIED:20260413T181028Z
UID:12084-1780149600-1780155000@visitkingsland.com
SUMMARY:Jurassic Special Dinosaur Train Ride & Show
DESCRIPTION:The Kingsland Station  |  Saturdays\, April 11 to July 4  |  Tickets Required \nGet ready for a roaring good time at the Jurassic Special Show and Train Ride!  The adventure begins every Saturday\, through July 4\, 2026\, at noon and 2 PM at The Kingsland Station\, 440 S Lee St.\, Kingsland\, GA 31548. \nStep into an action-packed\, interactive dinosaur stage show where you might even become part of the adventure. Then keep the excitement rolling with a one-hour train ride\, where you’ll come face-to-face with dinosaurs and enjoy up-close encounters you won’t forget! \nLearn more and purchase tickets at TheGeorgiaTrain.com/dinosaurs.
URL:https://visitkingsland.com/event/jurassic-special-dinosaur-train-ride-show-may-30-2026-2pm/
LOCATION:The Kingsland Station\, 440 S Lee St\, Kingsland\, GA\, 31548\, United States
CATEGORIES:Family Friendly,Live Entertainment
ATTACH;FMTTYPE=image/webp:https://visitkingsland.com/wp-content/uploads/2026/04/Dino-Show-2026.webp
ORGANIZER;CN="Georgia Coastal Railway":MAILTO:info@thegeorgiatrain.com
END:VEVENT
END:VCALENDAR