BEGIN:VCALENDAR
VERSION:2.0
PRODID:-//Visit Kingsland, Georgia - ECPv6.15.20//NONSGML v1.0//EN
CALSCALE:GREGORIAN
METHOD:PUBLISH
X-WR-CALNAME:Visit Kingsland, Georgia
X-ORIGINAL-URL:https://visitkingsland.com
X-WR-CALDESC:Events for Visit Kingsland, Georgia
REFRESH-INTERVAL;VALUE=DURATION:PT1H
X-Robots-Tag:noindex
X-PUBLISHED-TTL:PT1H
BEGIN:VTIMEZONE
TZID:America/New_York
BEGIN:DAYLIGHT
TZOFFSETFROM:-0500
TZOFFSETTO:-0400
TZNAME:EDT
DTSTART:20250309T070000
END:DAYLIGHT
BEGIN:STANDARD
TZOFFSETFROM:-0400
TZOFFSETTO:-0500
TZNAME:EST
DTSTART:20251102T060000
END:STANDARD
BEGIN:DAYLIGHT
TZOFFSETFROM:-0500
TZOFFSETTO:-0400
TZNAME:EDT
DTSTART:20260308T070000
END:DAYLIGHT
BEGIN:STANDARD
TZOFFSETFROM:-0400
TZOFFSETTO:-0500
TZNAME:EST
DTSTART:20261101T060000
END:STANDARD
BEGIN:DAYLIGHT
TZOFFSETFROM:-0500
TZOFFSETTO:-0400
TZNAME:EDT
DTSTART:20270314T070000
END:DAYLIGHT
BEGIN:STANDARD
TZOFFSETFROM:-0400
TZOFFSETTO:-0500
TZNAME:EST
DTSTART:20271107T060000
END:STANDARD
END:VTIMEZONE
BEGIN:VEVENT
DTSTART;TZID=America/New_York:20260228T100000
DTEND;TZID=America/New_York:20260228T140000
DTSTAMP:20260420T080419
CREATED:20260213T153938Z
LAST-MODIFIED:20260213T160656Z
UID:10505-1772272800-1772287200@visitkingsland.com
SUMMARY:Black History Month Block Party
DESCRIPTION:Hometown Nutrition + Fitness | February 28\, 2026 10 AM-2 PM | Free Admission\n\nKingsland\, it’s time to come together for more than just a party—we’re building a legacy! Join Hometown Nutrition + Fitness as they close out February with a massive celebration of culture\, community\, and local excellence.\n\nThis isn’t just about looking back; it’s about moving forward together. We are turning our space into a vibrant hub for local entrepreneurs and families to connect\, grow\, and inspire.\n\nWHAT TO EXPECT\nShop Local: Discover and support incredible Black-owned businesses from right here in our community.Vibe & Energy: Great music\, high energy\, and the best community spirit in Kingsland.Family & Fellowship: A space for everyone to gather\, share stories\, and celebrate our collective journey.Community Impact: Learn how local businesses are making a difference and how you can be a part of the movement.\n\nTHE DETAILS\nWhen: Saturday\, February 28\, 2026Time: 10 AM – 2 PMWhere: 1000 E King Ave.\, Ste. F\, Kingsland\, GA 31548Cost: FREE to attend!\n\nCALLING ALL VENDORS!\nAre you a local business owner looking to make an impact? We want you to shine with us! Being a part of this event means investing in our community’s future and showcasing your brand to neighbors who are ready to support you.  Learn more on HERE.
URL:https://visitkingsland.com/event/black-history-month-block-party/
LOCATION:Hometown Nutrition + Fitness\, 1000 E King Ave.\, Ste. F\, Kingsland\, GA\, 31548\, United States
CATEGORIES:Family Friendly
ORGANIZER;CN="Hometown Nutrition + Fitness":MAILTO:kennedythebrand@gmail.com
END:VEVENT
BEGIN:VEVENT
DTSTART;TZID=America/New_York:20260228T100000
DTEND;TZID=America/New_York:20260228T140000
DTSTAMP:20260420T080419
CREATED:20260213T215102Z
LAST-MODIFIED:20260217T133550Z
UID:10537-1772272800-1772287200@visitkingsland.com
SUMMARY:Art Market at Blue Bridge Coffeehouse
DESCRIPTION:Blue Bridge Coffeehouse | Feb. 28\, 10 AM-2 PM | Free \nShop and sip Saturday the Saturday\, Feb. 28\, with Blue Bridge Coffeehouse! Meet local vendors and try out seasonal specials! We hope you’ll swing by!
URL:https://visitkingsland.com/event/art-market-at-blue-bridge-coffeehouse/
LOCATION:Blue Bridge Coffeehouse\, 102 S Lee St.\, Kingsland\, GA\, 31548\, United States
CATEGORIES:Family Friendly
ORGANIZER;CN="Blue Bridge Coffeehouse":MAILTO:bluebridgecoffeehouse@gmail.com
END:VEVENT
END:VCALENDAR