BEGIN:VCALENDAR
VERSION:2.0
PRODID:-//Visit Kingsland, Georgia - ECPv6.15.20//NONSGML v1.0//EN
CALSCALE:GREGORIAN
METHOD:PUBLISH
X-ORIGINAL-URL:https://visitkingsland.com
X-WR-CALDESC:Events for Visit Kingsland, Georgia
REFRESH-INTERVAL;VALUE=DURATION:PT1H
X-Robots-Tag:noindex
X-PUBLISHED-TTL:PT1H
BEGIN:VTIMEZONE
TZID:America/New_York
BEGIN:DAYLIGHT
TZOFFSETFROM:-0500
TZOFFSETTO:-0400
TZNAME:EDT
DTSTART:20250309T070000
END:DAYLIGHT
BEGIN:STANDARD
TZOFFSETFROM:-0400
TZOFFSETTO:-0500
TZNAME:EST
DTSTART:20251102T060000
END:STANDARD
BEGIN:DAYLIGHT
TZOFFSETFROM:-0500
TZOFFSETTO:-0400
TZNAME:EDT
DTSTART:20260308T070000
END:DAYLIGHT
BEGIN:STANDARD
TZOFFSETFROM:-0400
TZOFFSETTO:-0500
TZNAME:EST
DTSTART:20261101T060000
END:STANDARD
BEGIN:DAYLIGHT
TZOFFSETFROM:-0500
TZOFFSETTO:-0400
TZNAME:EDT
DTSTART:20270314T070000
END:DAYLIGHT
BEGIN:STANDARD
TZOFFSETFROM:-0400
TZOFFSETTO:-0500
TZNAME:EST
DTSTART:20271107T060000
END:STANDARD
END:VTIMEZONE
BEGIN:VEVENT
DTSTART;TZID=America/New_York:20260627T120000
DTEND;TZID=America/New_York:20260627T133000
DTSTAMP:20260420T095241
CREATED:20260413T184141Z
LAST-MODIFIED:20260413T184419Z
UID:12093-1782561600-1782567000@visitkingsland.com
SUMMARY:Jurassic Special Dinosaur Train Ride & Show
DESCRIPTION:The Kingsland Station  |  Saturdays\, April 11 to July 4  |  Tickets Required \nGet ready for a roaring good time at the Jurassic Special Show and Train Ride!  The adventure begins every Saturday\, through July 4\, 2026\, at noon and 2 PM at The Kingsland Station\, 440 S Lee St.\, Kingsland\, GA 31548. \nStep into an action-packed\, interactive dinosaur stage show where you might even become part of the adventure. Then keep the excitement rolling with a one-hour train ride\, where you’ll come face-to-face with dinosaurs and enjoy up-close encounters you won’t forget! \nLearn more and purchase tickets at TheGeorgiaTrain.com/dinosaurs.
URL:https://visitkingsland.com/event/jurassic-special-dinosaur-train-ride-show-june-27-2026-noon/
LOCATION:The Kingsland Station\, 440 S Lee St\, Kingsland\, GA\, 31548\, United States
CATEGORIES:Family Friendly,Live Entertainment
ATTACH;FMTTYPE=image/webp:https://visitkingsland.com/wp-content/uploads/2026/04/Dino-Show-2026.webp
ORGANIZER;CN="Georgia Coastal Railway":MAILTO:info@thegeorgiatrain.com
END:VEVENT
BEGIN:VEVENT
DTSTART;TZID=America/New_York:20260627T140000
DTEND;TZID=America/New_York:20260627T153000
DTSTAMP:20260420T095241
CREATED:20260413T183938Z
LAST-MODIFIED:20260413T183938Z
UID:12092-1782568800-1782574200@visitkingsland.com
SUMMARY:Jurassic Special Dinosaur Train Ride & Show
DESCRIPTION:The Kingsland Station  |  Saturdays\, April 11 to July 4  |  Tickets Required \nGet ready for a roaring good time at the Jurassic Special Show and Train Ride!  The adventure begins every Saturday\, through July 4\, 2026\, at noon and 2 PM at The Kingsland Station\, 440 S Lee St.\, Kingsland\, GA 31548. \nStep into an action-packed\, interactive dinosaur stage show where you might even become part of the adventure. Then keep the excitement rolling with a one-hour train ride\, where you’ll come face-to-face with dinosaurs and enjoy up-close encounters you won’t forget! \nLearn more and purchase tickets at TheGeorgiaTrain.com/dinosaurs.
URL:https://visitkingsland.com/event/jurassic-special-dinosaur-train-ride-show-june-27-2026-2pm/
LOCATION:The Kingsland Station\, 440 S Lee St\, Kingsland\, GA\, 31548\, United States
CATEGORIES:Family Friendly,Live Entertainment
ATTACH;FMTTYPE=image/webp:https://visitkingsland.com/wp-content/uploads/2026/04/Dino-Show-2026.webp
ORGANIZER;CN="Georgia Coastal Railway":MAILTO:info@thegeorgiatrain.com
END:VEVENT
END:VCALENDAR