BEGIN:VCALENDAR
VERSION:2.0
PRODID:-//Visit Kingsland, Georgia - ECPv6.15.20//NONSGML v1.0//EN
CALSCALE:GREGORIAN
METHOD:PUBLISH
X-ORIGINAL-URL:https://visitkingsland.com
X-WR-CALDESC:Events for Visit Kingsland, Georgia
REFRESH-INTERVAL;VALUE=DURATION:PT1H
X-Robots-Tag:noindex
X-PUBLISHED-TTL:PT1H
BEGIN:VTIMEZONE
TZID:America/New_York
BEGIN:DAYLIGHT
TZOFFSETFROM:-0500
TZOFFSETTO:-0400
TZNAME:EDT
DTSTART:20250309T070000
END:DAYLIGHT
BEGIN:STANDARD
TZOFFSETFROM:-0400
TZOFFSETTO:-0500
TZNAME:EST
DTSTART:20251102T060000
END:STANDARD
BEGIN:DAYLIGHT
TZOFFSETFROM:-0500
TZOFFSETTO:-0400
TZNAME:EDT
DTSTART:20260308T070000
END:DAYLIGHT
BEGIN:STANDARD
TZOFFSETFROM:-0400
TZOFFSETTO:-0500
TZNAME:EST
DTSTART:20261101T060000
END:STANDARD
BEGIN:DAYLIGHT
TZOFFSETFROM:-0500
TZOFFSETTO:-0400
TZNAME:EDT
DTSTART:20270314T070000
END:DAYLIGHT
BEGIN:STANDARD
TZOFFSETFROM:-0400
TZOFFSETTO:-0500
TZNAME:EST
DTSTART:20271107T060000
END:STANDARD
END:VTIMEZONE
BEGIN:VEVENT
DTSTART;TZID=America/New_York:20260421T190000
DTEND;TZID=America/New_York:20260421T220000
DTSTAMP:20260423T074709
CREATED:20260420T141714Z
LAST-MODIFIED:20260420T141714Z
UID:12160-1776798000-1776808800@visitkingsland.com
SUMMARY:Open Mic with Jerry Lee at Captain Seagle's Saloon
DESCRIPTION:Captain Seagle’s Saloon  | Tuesday\, April 21\, 7-10 PM  |  Free Entry \nGrab the mic and the spotlight! Join St. Mary’s own Jerry Lee for an open mic night at Captain Seagle’s Saloon & Patio Bar\, Tuesday\, April 21\, from 7 to 10 PM. \nFor more information\, visit the Facebook event page or call Captain Seagle’s at 912-882-3242.
URL:https://visitkingsland.com/event/open-mic-with-jerry-lee-at-captain-seagles-saloon/
LOCATION:Captain Seagle’s Saloon & Patio Bar\, 105 Osborne St.\, St. Marys\, GA\, 31558\, United States
CATEGORIES:Live Entertainment
ATTACH;FMTTYPE=image/jpeg:https://visitkingsland.com/wp-content/uploads/2026/04/Capt-Seagles-Open-Mic-with-Jerry-Lee.jpg
END:VEVENT
END:VCALENDAR