BEGIN:VCALENDAR
VERSION:2.0
PRODID:-//Visit Kingsland, Georgia - ECPv6.15.20//NONSGML v1.0//EN
CALSCALE:GREGORIAN
METHOD:PUBLISH
X-WR-CALNAME:Visit Kingsland, Georgia
X-ORIGINAL-URL:https://visitkingsland.com
X-WR-CALDESC:Events for Visit Kingsland, Georgia
REFRESH-INTERVAL;VALUE=DURATION:PT1H
X-Robots-Tag:noindex
X-PUBLISHED-TTL:PT1H
BEGIN:VTIMEZONE
TZID:America/New_York
BEGIN:DAYLIGHT
TZOFFSETFROM:-0500
TZOFFSETTO:-0400
TZNAME:EDT
DTSTART:20250309T070000
END:DAYLIGHT
BEGIN:STANDARD
TZOFFSETFROM:-0400
TZOFFSETTO:-0500
TZNAME:EST
DTSTART:20251102T060000
END:STANDARD
BEGIN:DAYLIGHT
TZOFFSETFROM:-0500
TZOFFSETTO:-0400
TZNAME:EDT
DTSTART:20260308T070000
END:DAYLIGHT
BEGIN:STANDARD
TZOFFSETFROM:-0400
TZOFFSETTO:-0500
TZNAME:EST
DTSTART:20261101T060000
END:STANDARD
BEGIN:DAYLIGHT
TZOFFSETFROM:-0500
TZOFFSETTO:-0400
TZNAME:EDT
DTSTART:20270314T070000
END:DAYLIGHT
BEGIN:STANDARD
TZOFFSETFROM:-0400
TZOFFSETTO:-0500
TZNAME:EST
DTSTART:20271107T060000
END:STANDARD
END:VTIMEZONE
BEGIN:VEVENT
DTSTART;TZID=America/New_York:20260502T080000
DTEND;TZID=America/New_York:20260502T120000
DTSTAMP:20260421T083241
CREATED:20260211T155033Z
LAST-MODIFIED:20260420T174603Z
UID:10445-1777708800-1777723200@visitkingsland.com
SUMMARY:Cinco De Mayo 5K
DESCRIPTION:The Firefly Taco   |  Saturday\, May 2\,  8 AM | Registration Required \nRun\, walk\, or stroll through downtown St. Marys at the Second Annual Cinco de Mayo 5K and 1 Mile Taco Run. \nHosted by The Firefly Taco Cantina and Wee Pub South\, this event supports Camden Gymnastics\, with 100% of proceeds helping young athletes cover state and national championship fees! \nRace Day Registration begins at 7:00 am. \nThe 5K race will start at 8:00 am\, followed by the 1Mile. \nThe race starts and finishes at St Marys Firefly Taco Cantina – which will have music and activities immediately after the race. \nEarly bib pickup: \n\nFriday\, May 1st. 3pm-6pm at The Firefly\, St Marys GA\n\nWinners prizes: \n\nTop male & female finishers of the 5K race each receive a complimentary recovery service from The Ground Up Therapy & Wellness\n\nAwards: \n\n5K- Awards top 3 overall finishers (male and female)\n1M – Award to top male and female\n\n5k Age Groups: \n\n10 & under; 11-18; 19-29; 30-39; 40-49; 50-59; 60-69; 70+\n\nRegister by April 19th to receive a T-shirt! \nThe virtual run will take place between May 1st and May 10th. Run on your own and submit your times! \nFind more information & registration HERE!
URL:https://visitkingsland.com/event/cinco-de-mayo-5k/
LOCATION:The Firefly Taco Cantina\, 609 Osborne St.\, St. Marys\, GA\, 31558\, United States
CATEGORIES:Family Friendly
ATTACH;FMTTYPE=image/jpeg:https://visitkingsland.com/wp-content/uploads/2026/02/Cinco-de-Mayo-5K.jpg
ORGANIZER;CN="The Firefly Taco Cantina":MAILTO:info@fireflytaco.com
END:VEVENT
BEGIN:VEVENT
DTSTART;TZID=America/New_York:20260502T090000
DTEND;TZID=America/New_York:20260502T120000
DTSTAMP:20260421T083241
CREATED:20260321T164633Z
LAST-MODIFIED:20260415T152514Z
UID:11673-1777712400-1777723200@visitkingsland.com
SUMMARY:Plant Sale at Orange Hall
DESCRIPTION:Orange Hall Gilman Cultural Center  |  Saturday\, May 2\, 9 AM-Noon  |  Free \nJoin the St. Marys Garden Club on the grounds of Orange Hall for their annual Spring plant sale. Perfect time to make purchases to spruce up your home or yard and to talk to local gardeners. The St. Marys Community Market will also be brimming with fruits\, veggies\, bakery items\, and unique gifts. \nThe garden club will be located on the Conyers Street side of Orange Hall (311 Osborne St\, St Marys\, GA 31558) towards the Cook House. \nFor more information\, visit the Facebook event page.
URL:https://visitkingsland.com/event/plant-sale-at-orange-hall/
LOCATION:Orange Hall Lawn\, 311 Osborne St.\, St. Marys\, GA\, 33558\, United States
CATEGORIES:Family Friendly
ATTACH;FMTTYPE=image/jpeg:https://visitkingsland.com/wp-content/uploads/2026/03/St.-Marys-Garden-Club-2026-Spring-Plant-Sale-1.jpg
ORGANIZER;CN="Visit St. Marys GA":MAILTO:awigger@stmarysga.gov
END:VEVENT
BEGIN:VEVENT
DTSTART;TZID=America/New_York:20260502T190000
DTEND;TZID=America/New_York:20260502T220000
DTSTAMP:20260421T083241
CREATED:20260320T133027Z
LAST-MODIFIED:20260320T134313Z
UID:11611-1777748400-1777759200@visitkingsland.com
SUMMARY:"Cinderella" by Saltwater Performing Arts
DESCRIPTION:Pigmental Studios Auditorium  |  April 24\, 25 & 26 & May 1\, 2 & 3  |  Tickets Required \nSaltwater Performing Arts presents Rodgers & Hammerstein’s “Cinderella\,” the timeless musical fairy tale of Ella\, a kind young woman forced into servitude by her cruel stepmother and stepsisters. Despite her hardships\, she dreams of a better life. With the magical help of her Fairy Godmother\, she is transformed for one enchanted evening at the royal ball\, where she captures the heart of the Prince. When the clock strikes midnight and the spell fades\, a single glass slipper leads to a kingdom-wide search\, proving that kindness\, courage\, and hope can change a life forever. \n​Filled with beloved songs like “In My Own Little Corner\,” “Impossible\,” and “Ten Minutes Ago\,” this classic musical celebrates romance\, transformation\, and the power of believing in yourself. Featuring our talented\, award-winning Mainstage cast\, this magical production promises stunning costumes\, unforgettable music\, and a story the whole family will love. \nEvening Performances: Friday and Saturday\, April 24\, 25 and May 1\, 2 at 7:00 pm  \nMatinee Performances: Sunday\, April 26 and May 3 at 2:00 pm \nAll performances will take place at Pigmental Studios Auditorium\, 124 Industrial Drive \nYouth: $13\, Student: $15\, Adult: $22 (Senior & military discounts available) \nFor tickets\, visit SaltwaterPAC.org.
URL:https://visitkingsland.com/event/cinderella-by-saltwater-performing-arts-may-2/
LOCATION:Pigmental Studios Auditorium\, 124 Industrial Drive\, St. Marys\, GA\, 31558\, United States
CATEGORIES:Family Friendly,Live Entertainment
ATTACH;FMTTYPE=image/avif:https://visitkingsland.com/wp-content/uploads/2026/03/Cinderella.avif
END:VEVENT
END:VCALENDAR