BEGIN:VCALENDAR
VERSION:2.0
PRODID:-//Visit Kingsland, Georgia - ECPv6.15.20//NONSGML v1.0//EN
CALSCALE:GREGORIAN
METHOD:PUBLISH
X-ORIGINAL-URL:https://visitkingsland.com
X-WR-CALDESC:Events for Visit Kingsland, Georgia
REFRESH-INTERVAL;VALUE=DURATION:PT1H
X-Robots-Tag:noindex
X-PUBLISHED-TTL:PT1H
BEGIN:VTIMEZONE
TZID:America/New_York
BEGIN:DAYLIGHT
TZOFFSETFROM:-0500
TZOFFSETTO:-0400
TZNAME:EDT
DTSTART:20250309T070000
END:DAYLIGHT
BEGIN:STANDARD
TZOFFSETFROM:-0400
TZOFFSETTO:-0500
TZNAME:EST
DTSTART:20251102T060000
END:STANDARD
BEGIN:DAYLIGHT
TZOFFSETFROM:-0500
TZOFFSETTO:-0400
TZNAME:EDT
DTSTART:20260308T070000
END:DAYLIGHT
BEGIN:STANDARD
TZOFFSETFROM:-0400
TZOFFSETTO:-0500
TZNAME:EST
DTSTART:20261101T060000
END:STANDARD
BEGIN:DAYLIGHT
TZOFFSETFROM:-0500
TZOFFSETTO:-0400
TZNAME:EDT
DTSTART:20270314T070000
END:DAYLIGHT
BEGIN:STANDARD
TZOFFSETFROM:-0400
TZOFFSETTO:-0500
TZNAME:EST
DTSTART:20271107T060000
END:STANDARD
END:VTIMEZONE
BEGIN:VEVENT
DTSTART;TZID=America/New_York:20260424T123000
DTEND;TZID=America/New_York:20260424T153000
DTSTAMP:20260423T063136
CREATED:20260421T141734Z
LAST-MODIFIED:20260421T141734Z
UID:12202-1777033800-1777044600@visitkingsland.com
SUMMARY:Open Card Games at St. Marys Senior Center
DESCRIPTION:St. Marys Senior Center  |  Fridays\, 12:30-3:30 PM  |  Free \nJoin your neighbors and friends (or make new ones!) at the Open Card Games\, every Friday from 12;30 to 3 PM at the St. Marys Senior Center\, 2603 CC Osborne Rd.\, St. Marys\, GA 31558. \nRegister at https://schedulesplus.com/smsc/kiosk \nFor more information\, visit the Facebook event page or call the Senior Center at 912-510-6800.
URL:https://visitkingsland.com/event/open-card-games-at-st-marys-senior-center/
LOCATION:St. Marys Senior Center\, 2603 CC Osborne Road\, St. Marys\, GA\, 31558\, United States
ATTACH;FMTTYPE=image/jpeg:https://visitkingsland.com/wp-content/uploads/2026/04/St.-Marys-Senior-Center-Open-Card-Games-Graphic.jpg
ORGANIZER;CN="St. Marys Senior Center":MAILTO:seniorctr@stmarysga.gov
END:VEVENT
BEGIN:VEVENT
DTSTART;TZID=America/New_York:20260424T173000
DTEND;TZID=America/New_York:20260424T203000
DTSTAMP:20260423T063136
CREATED:20260421T165026Z
LAST-MODIFIED:20260421T165026Z
UID:12205-1777051800-1777062600@visitkingsland.com
SUMMARY:Full Moon Folk at Brackish Beer Company
DESCRIPTION:Brackish Beer Company  |  Friday\, April 24\, 5:30-8:30 PM  |  Free Admission \nCome out to enjoy the acoustic sounds of Full Moon Folk in the new music stage at Brackish Beer Company‘s new location at 117 Osborne St.\, in Downtown St. Marys. Enjoy a pint of your favorite Brackish brew and get a look at all the beautiful work the Prebles have put in to renovating their brewery’s new home. \nFor more information\, visit the Facebook event page or call Jon at Brackish Beer Company at 912-322-6743.
URL:https://visitkingsland.com/event/full-moon-folk-at-brackish-beer-company/
LOCATION:Brackish Beer Company Microbrewery\, 117 Osborne St.\, St. Marys\, GA\, 31558\, United States
CATEGORIES:Live Entertainment
ATTACH;FMTTYPE=image/png:https://visitkingsland.com/wp-content/uploads/2026/04/Subheading.png
ORGANIZER;CN="Brackish Beer Company Microbrewery":MAILTO:jon@brackishbeer.com
END:VEVENT
BEGIN:VEVENT
DTSTART;TZID=America/New_York:20260424T180000
DTEND;TZID=America/New_York:20260424T200000
DTSTAMP:20260423T063136
CREATED:20260421T191827Z
LAST-MODIFIED:20260421T191947Z
UID:12222-1777053600-1777060800@visitkingsland.com
SUMMARY:Italian Wine Tasting at Sweet Luncheonette
DESCRIPTION:Sweet Luncheonette  |  Friday\, April 24  |  6 PM  |  Tickets Required \nJoin the Chef Stephanie of Sweet Luncheonette for Passport to Italy: Spring Edition\, a guided wine tasting inspired by the fresh\, vibrant flavors of Italy in spring. Celebrate the freshness\, charm\, and regional beauty of Italian wine. \nThis spring-focused edition highlights wines that feel vibrant and expressive\, made for warmer evenings\, from crisp whites and sparkling pours to light-bodied reds and beautifully balanced classics. \nExpect a curated lineup inspired by the regions of Italy\, pairing bites selected to complement the pours\, and a relaxed\, welcoming atmosphere that makes the experience easy to enjoy\, whether you’re wine-curious or already have a favorite region picked out. It’s designed to feel elevated without being stuffy\, thoughtful without being over-explained\, and memorable without trying too hard. \nCome for the tasting\, stay for the vibe\, and leave with at least one new Italian favorite. \nWhat to Expect \n\nA guided wine tasting experience inspired by Italy\nSpring-friendly pours featuring fresh\, food-loving selections\nPairing bites selected to complement the wines\nLight guidance throughout (beginner-friendly\, not pretentious)\nA cozy Sweet Luncheonette atmosphere\n\nPerfect For \n\nDate night that feels polished but relaxed\n\nFriends who want a better-than-average night out\nGuests who love food\, wine\, and a little European flair\nAnyone who wants to explore Italian wine without feeling lectured\n\n21+ event. Seats are limited. Bring someone you love\, bring a friend\, or come solo and let the wine do the social heavy lifting. \nTo learn more and to purchase tickets\, visit Sweet-Luncheonette.com/event-details/passport-to-italy-spring-edition. \nSweet Luncheonette is located at 101 E Weed St.\, St. Marys\, GA 31558
URL:https://visitkingsland.com/event/wine-tasting-at-sweet-luncheonette/
LOCATION:Sweet Luncheonette\, 101 E Weed St.\, St. Marys\, GA\, 31558\, United States
ATTACH;FMTTYPE=image/png:https://visitkingsland.com/wp-content/uploads/2026/04/Subheading-3.png
ORGANIZER;CN="Sweet Luncheonette":MAILTO:contact@sweet-luncheonette.com
END:VEVENT
BEGIN:VEVENT
DTSTART;TZID=America/New_York:20260424T183000
DTEND;TZID=America/New_York:20260424T193000
DTSTAMP:20260423T063136
CREATED:20260414T145833Z
LAST-MODIFIED:20260414T150702Z
UID:12124-1777055400-1777059000@visitkingsland.com
SUMMARY:Karaoke Friday with Don at Captain Seagle's Saloon
DESCRIPTION:Captain Seagle’s Saloon  |  Fridays\, 6:30-7:30 PM  |  Free Admission \nCome sing your heart at Fridays\, from 6:30 to 7:30 PM\, at Captain Seagle’s Saloon & Patio Bar\, 105 Osborne St. in downtown St. Marys. \nDJ Don has all the best karaoke hits and more!\n⭐ All genres welcome\n⭐ No pressure\, just fun!\n⭐ Cold drinks and great company!\nFor more information\, visit the Facebook event page or call Captain Seagle’s at 912-882-3242.
URL:https://visitkingsland.com/event/karaoke-friday-with-don-at-captain-seagles-saloon-april-24-2026/
LOCATION:Captain Seagle’s Saloon & Patio Bar\, 105 Osborne St.\, St. Marys\, GA\, 31558\, United States
CATEGORIES:Live Entertainment
ATTACH;FMTTYPE=image/jpeg:https://visitkingsland.com/wp-content/uploads/2026/04/Karaoke-with-Don-Wed-and-Fri-Capt-Seagles-2026.jpg
END:VEVENT
BEGIN:VEVENT
DTSTART;TZID=America/New_York:20260424T190000
DTEND;TZID=America/New_York:20260424T220000
DTSTAMP:20260423T063136
CREATED:20260320T132311Z
LAST-MODIFIED:20260320T134234Z
UID:11607-1777057200-1777068000@visitkingsland.com
SUMMARY:"Cinderella" by Saltwater Performing Arts
DESCRIPTION:Pigmental Studios Auditorium  |  April 24\, 25 & 26 & May 1\, 2 & 3  |  Tickets Required \nSaltwater Performing Arts presents Rodgers & Hammerstein’s “Cinderella\,” the timeless musical fairy tale of Ella\, a kind young woman forced into servitude by her cruel stepmother and stepsisters. Despite her hardships\, she dreams of a better life. With the magical help of her Fairy Godmother\, she is transformed for one enchanted evening at the royal ball\, where she captures the heart of the Prince. When the clock strikes midnight and the spell fades\, a single glass slipper leads to a kingdom-wide search\, proving that kindness\, courage\, and hope can change a life forever. \n​Filled with beloved songs like “In My Own Little Corner\,” “Impossible\,” and “Ten Minutes Ago\,” this classic musical celebrates romance\, transformation\, and the power of believing in yourself. Featuring our talented\, award-winning Mainstage cast\, this magical production promises stunning costumes\, unforgettable music\, and a story the whole family will love. \nEvening Performances: Friday and Saturday\, April 24\, 25 and May 1\, 2 at 7:00 pm  \nMatinee Performances: Sunday\, April 26 and May 3 at 2:00 pm \nAll performances will take place at Pigmental Studios Auditorium\, 124 Industrial Drive \nYouth: $13\, Student: $15\, Adult: $22 (Senior & military discounts available) \nFor tickets\, visit SaltwaterPAC.org.
URL:https://visitkingsland.com/event/cinderella-by-saltwater-performing-arts-april-24/
LOCATION:Pigmental Studios Auditorium\, 124 Industrial Drive\, St. Marys\, GA\, 31558\, United States
CATEGORIES:Family Friendly,Live Entertainment
ATTACH;FMTTYPE=image/avif:https://visitkingsland.com/wp-content/uploads/2026/03/Cinderella.avif
END:VEVENT
BEGIN:VEVENT
DTSTART;TZID=America/New_York:20260425T093000
DTEND;TZID=America/New_York:20260425T103000
DTSTAMP:20260423T063136
CREATED:20260421T123923Z
LAST-MODIFIED:20260421T123923Z
UID:12181-1777109400-1777113000@visitkingsland.com
SUMMARY:Where Roots Meets Roast at River Tides Outdoor Emporium
DESCRIPTION:River Tides Outdoor Emporium  |  Saturday\, April 25\, 9:30 AM  |  Complimentary Coffee \nJoin the wonderful folks at River Tides Landscape & Outdoor Emporium for coffee every Saturday morning at 9:30 AM.  Bring a friend or neighbor and have a peaceful start to your weekend with nature. \n101 W. St. Patrick St.\, St. Marys\, GA 31558 \nFor more information\, contact River Tides at 912-674-0678 or erin@river-tides.com.
URL:https://visitkingsland.com/event/where-roots-meets-roast-at-river-tides-outdoor-emporium/
LOCATION:River Tides Outdoor Emporium\, 101 W St. Patrick St.\, St. Marys\, GA\, 31558\, United States
ATTACH;FMTTYPE=image/jpeg:https://visitkingsland.com/wp-content/uploads/2026/04/River-Tides-Where-Roots-Meets-Roast-Graphic.jpg
ORGANIZER;CN="River Tides Outdoor Emporium":MAILTO:erin@river-tides.com
END:VEVENT
BEGIN:VEVENT
DTSTART;TZID=America/New_York:20260425T110000
DTEND;TZID=America/New_York:20260425T120000
DTSTAMP:20260423T063136
CREATED:20260414T133752Z
LAST-MODIFIED:20260414T133752Z
UID:12110-1777114800-1777118400@visitkingsland.com
SUMMARY:Plant Swap at St. Marys Public Library
DESCRIPTION:St. Marys Public Library  |  Saturday\, April 25\, 11 AM  |  Free \nSpice up your spring garden and your social life! \nCome socialize and swap plants\, seeds\, and cuttings with other gardening enthusiasts at St. Marys Public Library Plant Swap on Saturday\, April 25\, at 11 AM\, 100 Herb Bauer Drive\, St. Marys\, GA 31558. \nBonus! St. Marys Garden Club will be at the library to deliver a program on native plants of Coastal Georgia. \nFor more information\, visit the Facebook event page or call St. Marys Public Library at 912-882-4800. \n 
URL:https://visitkingsland.com/event/plant-swap-at-st-marys-public-library/
LOCATION:St. Marys Public Library\, 100 Herb Bauer Dr\, St. Marys\, GA\, 31558\, United States
CATEGORIES:Family Friendly
ATTACH;FMTTYPE=image/jpeg:https://visitkingsland.com/wp-content/uploads/2026/04/St.-Marys-Public-Library-Plant-Swap-04-2026.jpg
ORGANIZER;CN="St. Marys Public Library":MAILTO:tball@trrl.org
END:VEVENT
BEGIN:VEVENT
DTSTART;TZID=America/New_York:20260425T120000
DTEND;TZID=America/New_York:20260425T143000
DTSTAMP:20260423T063136
CREATED:20260227T213537Z
LAST-MODIFIED:20260414T194430Z
UID:10769-1777118400-1777127400@visitkingsland.com
SUMMARY:"The Case of the Malted Falcon" Dinner Theatre at The Café at Cottle & Gunn
DESCRIPTION:The Café at Cottle and Gunn  | Saturday\, April 25  |  Tickets Required \nSt. Marys Little Theatre will present “The Case of the Malted Falcon: A comedic\, chocolatey\, who-dun-it!” for two performances at The Café at Cottle and Gunn on Saturday\, April 25. \nA themed 3-course meal is included in the $55 ticket price for either noon or 6 p.m. showtimes.  Tickets go on sale March 1 at Cottle and Gunn. \nBe sure to mark your calendar for St. Marys Little Theatre’s full 2026 Dinner Theater lineup: \n\nSaturday\, June 6: “Trouble at the Tropicana: A zany ‘I love Lucy’ spoof featuring Lucy\, Ricky\, Fred\, and Ethel”\nSaturday\, August 22: “Lady Pirates of the Caribbean: A wacky pirate adventure on the high seas!”\nSaturday\, October 3: “POLTER-HEIST: A haunted inn and lost treasure make for a hilariously spooky MYSTERY Halloween Show!”\nSaturday\, December 5: “Homicide for the Holidays: A Christmas Murder Mystery”\n\nFor more information and to buy tickets\, visit the Cottle & Gunn Dinner Theatre page\, or contact Cottle & Gunn at 912-510-0639.  \n  \n 
URL:https://visitkingsland.com/event/the-case-of-the-malted-falcon-april-25-2026-noon/
LOCATION:The Cafe at Cottle & Gunn\, 711 Osborne St\, St. Marys\, GA\, 31558\, United States
CATEGORIES:Family Friendly,Live Entertainment
ATTACH;FMTTYPE=image/png:https://visitkingsland.com/wp-content/uploads/2026/02/The-Malted-Falcon-e1772646680664.png
ORGANIZER;CN="St. Marys Little Theatre":MAILTO:barbara@stmarysmagazine.com
END:VEVENT
BEGIN:VEVENT
DTSTART;TZID=America/New_York:20260425T130000
DTEND;TZID=America/New_York:20260425T150000
DTSTAMP:20260423T063136
CREATED:20260414T134632Z
LAST-MODIFIED:20260414T194751Z
UID:12113-1777122000-1777129200@visitkingsland.com
SUMMARY:Craft Resin Night Lights at Coastal Camden Art League
DESCRIPTION:Coastal Camden Art League  |  Saturday\, April 25\, 1-3 PM  |  $45 \nDesign your own resin night lights w/shells and other trinkets with Vilma at Coastal Camden Art League\, 2006 Osborne Rd.\, St. Marys\, GA 31558. \nFee is $45 and includes materials and instruction to create two night lights. \nFor more information\, visit the Facebook event page or text Vilma @470 210-9378 \n 
URL:https://visitkingsland.com/event/craft-resin-night-lights/
LOCATION:Coastal Camden Art League\, 2006 Osborne Rd\, St. Marys\, GA\, 31558\, United States
ATTACH;FMTTYPE=image/jpeg:https://visitkingsland.com/wp-content/uploads/2026/04/Resin-Night-Lights-with-Velma-at-Coastal-Camden-Art-League-04-2026-e1776196061573.jpg
ORGANIZER;CN="Coastal Camden Art League":MAILTO:coastalcamdenartleague@outlook.com
END:VEVENT
BEGIN:VEVENT
DTSTART;TZID=America/New_York:20260425T180000
DTEND;TZID=America/New_York:20260425T203000
DTSTAMP:20260423T063136
CREATED:20260414T151720Z
LAST-MODIFIED:20260414T194521Z
UID:12130-1777140000-1777149000@visitkingsland.com
SUMMARY:"The Case of the Malted Falcon" Dinner Theatre at The Café at Cottle & Gunn
DESCRIPTION:The Café at Cottle and Gunn  | Saturday\, April 25  |  Tickets Required \nSt. Marys Little Theatre will present “The Case of the Malted Falcon: A comedic\, chocolatey\, who-dun-it!” for two performances at The Café at Cottle and Gunn on Saturday\, April 25. \nA themed 3-course meal is included in the $55 ticket price for either noon or 6 p.m. showtimes.  Tickets go on sale March 1 at Cottle and Gunn. \nBe sure to mark your calendar for St. Marys Little Theatre’s full 2026 Dinner Theatre lineup: \n\nSaturday\, June 6: “Trouble at the Tropicana: A zany ‘I love Lucy’ spoof featuring Lucy\, Ricky\, Fred\, and Ethel”\nSaturday\, August 22: “Lady Pirates of the Caribbean: A wacky pirate adventure on the high seas!”\nSaturday\, October 3: “POLTER-HEIST: A haunted inn and lost treasure make for a hilariously spooky MYSTERY Halloween Show!”\nSaturday\, December 5: “Homicide for the Holidays: A Christmas Murder Mystery”\n\nFor more information and to buy tickets\, visit the Cottle & Gunn Dinner Theatre page\, or contact Cottle & Gunn at 912-510-0639.  \n  \n 
URL:https://visitkingsland.com/event/the-case-of-the-malted-falcon-april-25-2026-6pm/
LOCATION:The Cafe at Cottle & Gunn\, 711 Osborne St\, St. Marys\, GA\, 31558\, United States
CATEGORIES:Family Friendly,Live Entertainment
ATTACH;FMTTYPE=image/png:https://visitkingsland.com/wp-content/uploads/2026/02/The-Malted-Falcon-e1772646680664.png
ORGANIZER;CN="St. Marys Little Theatre":MAILTO:barbara@stmarysmagazine.com
END:VEVENT
BEGIN:VEVENT
DTSTART;TZID=America/New_York:20260425T190000
DTEND;TZID=America/New_York:20260425T220000
DTSTAMP:20260423T063136
CREATED:20260320T132437Z
LAST-MODIFIED:20260320T134241Z
UID:11609-1777143600-1777154400@visitkingsland.com
SUMMARY:"Cinderella" by Saltwater Performing Arts
DESCRIPTION:Pigmental Studios Auditorium  |  April 24\, 25 & 26 & May 1\, 2 & 3  |  Tickets Required \nSaltwater Performing Arts presents Rodgers & Hammerstein’s “Cinderella\,” the timeless musical fairy tale of Ella\, a kind young woman forced into servitude by her cruel stepmother and stepsisters. Despite her hardships\, she dreams of a better life. With the magical help of her Fairy Godmother\, she is transformed for one enchanted evening at the royal ball\, where she captures the heart of the Prince. When the clock strikes midnight and the spell fades\, a single glass slipper leads to a kingdom-wide search\, proving that kindness\, courage\, and hope can change a life forever. \n​Filled with beloved songs like “In My Own Little Corner\,” “Impossible\,” and “Ten Minutes Ago\,” this classic musical celebrates romance\, transformation\, and the power of believing in yourself. Featuring our talented\, award-winning Mainstage cast\, this magical production promises stunning costumes\, unforgettable music\, and a story the whole family will love. \nEvening Performances: Friday and Saturday\, April 24\, 25 and May 1\, 2 at 7:00 pm  \nMatinee Performances: Sunday\, April 26 and May 3 at 2:00 pm \nAll performances will take place at Pigmental Studios Auditorium\, 124 Industrial Drive \nYouth: $13\, Student: $15\, Adult: $22 (Senior & military discounts available) \nFor tickets\, visit SaltwaterPAC.org.
URL:https://visitkingsland.com/event/cinderella-by-saltwater-performing-arts-april-25/
LOCATION:Pigmental Studios Auditorium\, 124 Industrial Drive\, St. Marys\, GA\, 31558\, United States
CATEGORIES:Family Friendly,Live Entertainment
ATTACH;FMTTYPE=image/avif:https://visitkingsland.com/wp-content/uploads/2026/03/Cinderella.avif
END:VEVENT
BEGIN:VEVENT
DTSTART;TZID=America/New_York:20260426T140000
DTEND;TZID=America/New_York:20260426T160000
DTSTAMP:20260423T063136
CREATED:20260312T192849Z
LAST-MODIFIED:20260414T201747Z
UID:11432-1777212000-1777219200@visitkingsland.com
SUMMARY:"An Afternoon at Orange Hall" Benefit for St. Marys Submarine Museum
DESCRIPTION:Orange Hall  | Sunday\, April 26\, 2 PM  |  Tickets Required \nThe public is invited to “An Afternoon at Orange Hall\,” a reception to raise funds for the St. Marys Submarine Museum’s Capital Campaign. The event will take place at 2 p.m. on Sunday\, April 26\, at Orange Hall at 311 Osborne St. in downtown St. Marys. \nTickets are $30 each and include food and drinks. All proceeds support the capital campaign for the new Submarine Museum building. \nPick up you tickets today at the Kingsland Welcome Center (1190 Boone St.\, Kingsland GA 31548) or at the St. Marys Submarine Museum (102 St. Marys St. W\, St. Marys\, GA 31558). \nFor more information\, contact the St. Marys Submarine Museum at 912-882-2782.
URL:https://visitkingsland.com/event/an-afternoon-at-orange-hall/
LOCATION:Orange Hall Lawn\, 311 Osborne St.\, St. Marys\, GA\, 33558\, United States
CATEGORIES:Featured
ATTACH;FMTTYPE=image/jpeg:https://visitkingsland.com/wp-content/uploads/2026/03/20260312153740_00001-scaled-e1776197754656.jpg
ORGANIZER;CN="St. Marys Submarine Museum":MAILTO:ExecutiveDirector@stmaryssubmuseum.com
END:VEVENT
BEGIN:VEVENT
DTSTART;TZID=America/New_York:20260426T140000
DTEND;TZID=America/New_York:20260426T170000
DTSTAMP:20260423T063136
CREATED:20260320T133211Z
LAST-MODIFIED:20260320T134248Z
UID:11612-1777212000-1777222800@visitkingsland.com
SUMMARY:"Cinderella" by Saltwater Performing Arts
DESCRIPTION:Pigmental Studios Auditorium  |  April 24\, 25 & 26 & May 1\, 2 & 3  |  Tickets Required \nSaltwater Performing Arts presents Rodgers & Hammerstein’s “Cinderella\,” the timeless musical fairy tale of Ella\, a kind young woman forced into servitude by her cruel stepmother and stepsisters. Despite her hardships\, she dreams of a better life. With the magical help of her Fairy Godmother\, she is transformed for one enchanted evening at the royal ball\, where she captures the heart of the Prince. When the clock strikes midnight and the spell fades\, a single glass slipper leads to a kingdom-wide search\, proving that kindness\, courage\, and hope can change a life forever. \n​Filled with beloved songs like “In My Own Little Corner\,” “Impossible\,” and “Ten Minutes Ago\,” this classic musical celebrates romance\, transformation\, and the power of believing in yourself. Featuring our talented\, award-winning Mainstage cast\, this magical production promises stunning costumes\, unforgettable music\, and a story the whole family will love. \nEvening Performances: Friday and Saturday\, April 24\, 25 and May 1\, 2 at 7:00 pm  \nMatinee Performances: Sunday\, April 26 and May 3 at 2:00 pm \nAll performances will take place at Pigmental Studios Auditorium\, 124 Industrial Drive \nYouth: $13\, Student: $15\, Adult: $22 (Senior & military discounts available) \nFor tickets\, visit SaltwaterPAC.org.
URL:https://visitkingsland.com/event/cinderella-by-saltwater-performing-arts-april-26/
LOCATION:Pigmental Studios Auditorium\, 124 Industrial Drive\, St. Marys\, GA\, 31558\, United States
CATEGORIES:Family Friendly,Live Entertainment
ATTACH;FMTTYPE=image/avif:https://visitkingsland.com/wp-content/uploads/2026/03/Cinderella.avif
END:VEVENT
BEGIN:VEVENT
DTSTART;TZID=America/New_York:20260426T150000
DTEND;TZID=America/New_York:20260426T170000
DTSTAMP:20260423T063136
CREATED:20260420T145517Z
LAST-MODIFIED:20260420T145534Z
UID:12162-1777215600-1777222800@visitkingsland.com
SUMMARY:Guitarist Gareth Pearson at Jerry Lee's Music
DESCRIPTION:Jerry Lee’s Music Store  |  Sunday\, April 26\, 3-5 PM  |  Tickets Required \nGareth Pearson is referred to as “The Welsh Tornado” which is particularly appropriate\, seeing as this special talent combines fingerstyle pyrotechnics\, with explosive lead runs making Pearson one of the most exciting acoustic musicians gigging today. Drawing his playing style initially from influences such as Chet Atkins\, Merle Travis\, Jerry Reed and Tommy Emmanuel\, Pearson has developed a style that is both inspiring and entertaining. \nThe show begins at 3 PM at Jerry Lee’s Music Store\, 101 W. St. Patrick St.\, St. Marys\, GA 31558. \nFor tickets\, visit www.JerryLeesMusic.com/event-details/an-afternoon-with-gareth-pearson.  For more information\, call Jerry Lee’s Music at 912-576-4401.
URL:https://visitkingsland.com/event/guitarist-gareth-pearson-at-jerry-lees-music/
LOCATION:Jerry Lee’s Music Store\, 101 W St. Patrick St.\, St. Marys\, GA\, 31558\, United States
ATTACH;FMTTYPE=image/jpeg:https://visitkingsland.com/wp-content/uploads/2026/04/Gareth-Pearson-at-Jerry-Lees-Music-04-26-2026.jpg
ORGANIZER;CN="Jerry Lee's Music Store":MAILTO:jerryleesmusic@yahoo.com
END:VEVENT
END:VCALENDAR