BEGIN:VCALENDAR
VERSION:2.0
PRODID:-//Visit Kingsland, Georgia - ECPv6.15.20//NONSGML v1.0//EN
CALSCALE:GREGORIAN
METHOD:PUBLISH
X-WR-CALNAME:Visit Kingsland, Georgia
X-ORIGINAL-URL:https://visitkingsland.com
X-WR-CALDESC:Events for Visit Kingsland, Georgia
REFRESH-INTERVAL;VALUE=DURATION:PT1H
X-Robots-Tag:noindex
X-PUBLISHED-TTL:PT1H
BEGIN:VTIMEZONE
TZID:America/New_York
BEGIN:DAYLIGHT
TZOFFSETFROM:-0500
TZOFFSETTO:-0400
TZNAME:EDT
DTSTART:20250309T070000
END:DAYLIGHT
BEGIN:STANDARD
TZOFFSETFROM:-0400
TZOFFSETTO:-0500
TZNAME:EST
DTSTART:20251102T060000
END:STANDARD
BEGIN:DAYLIGHT
TZOFFSETFROM:-0500
TZOFFSETTO:-0400
TZNAME:EDT
DTSTART:20260308T070000
END:DAYLIGHT
BEGIN:STANDARD
TZOFFSETFROM:-0400
TZOFFSETTO:-0500
TZNAME:EST
DTSTART:20261101T060000
END:STANDARD
BEGIN:DAYLIGHT
TZOFFSETFROM:-0500
TZOFFSETTO:-0400
TZNAME:EDT
DTSTART:20270314T070000
END:DAYLIGHT
BEGIN:STANDARD
TZOFFSETFROM:-0400
TZOFFSETTO:-0500
TZNAME:EST
DTSTART:20271107T060000
END:STANDARD
END:VTIMEZONE
BEGIN:VEVENT
DTSTART;TZID=America/New_York:20260218T140000
DTEND;TZID=America/New_York:20260218T143000
DTSTAMP:20260421T080352
CREATED:20260217T142817Z
LAST-MODIFIED:20260217T144530Z
UID:10550-1771423200-1771425000@visitkingsland.com
SUMMARY:Ribbon Cutting at Cornelia Jackson Memorial Park
DESCRIPTION:Cornelia Jackson Memorial Park | February 18\, 2 PM | Free \nThe Camden County community is invited to celebrate the recent improvements at Cornelia Jackson Memorial Park Come out\, enjoy the fresh updates\, and help us officially cut the ribbon on this improved community space. We look forward to seeing you there.
URL:https://visitkingsland.com/event/ribbon-cutting-at-cornelia-jackson-memorial-park/
LOCATION:Cornelia Jackson Memorial Park\, 201 15th St.\, Woodbine\, GA\, 31569\, United States
END:VEVENT
END:VCALENDAR